BEGIN:VCALENDAR
VERSION:2.0
PRODID:-//Refuge House of God | Charlotte NC - ECPv6.15.17//NONSGML v1.0//EN
CALSCALE:GREGORIAN
METHOD:PUBLISH
X-WR-CALNAME:Refuge House of God | Charlotte NC
X-ORIGINAL-URL:https://refugehouseofgod.org
X-WR-CALDESC:Events for Refuge House of God | Charlotte NC
REFRESH-INTERVAL;VALUE=DURATION:PT1H
X-Robots-Tag:noindex
X-PUBLISHED-TTL:PT1H
BEGIN:VTIMEZONE
TZID:America/New_York
BEGIN:DAYLIGHT
TZOFFSETFROM:-0500
TZOFFSETTO:-0400
TZNAME:EDT
DTSTART:20250309T070000
END:DAYLIGHT
BEGIN:STANDARD
TZOFFSETFROM:-0400
TZOFFSETTO:-0500
TZNAME:EST
DTSTART:20251102T060000
END:STANDARD
BEGIN:DAYLIGHT
TZOFFSETFROM:-0500
TZOFFSETTO:-0400
TZNAME:EDT
DTSTART:20260308T070000
END:DAYLIGHT
BEGIN:STANDARD
TZOFFSETFROM:-0400
TZOFFSETTO:-0500
TZNAME:EST
DTSTART:20261101T060000
END:STANDARD
BEGIN:DAYLIGHT
TZOFFSETFROM:-0500
TZOFFSETTO:-0400
TZNAME:EDT
DTSTART:20270314T070000
END:DAYLIGHT
BEGIN:STANDARD
TZOFFSETFROM:-0400
TZOFFSETTO:-0500
TZNAME:EST
DTSTART:20271107T060000
END:STANDARD
BEGIN:DAYLIGHT
TZOFFSETFROM:-0500
TZOFFSETTO:-0400
TZNAME:EDT
DTSTART:20280312T070000
END:DAYLIGHT
BEGIN:STANDARD
TZOFFSETFROM:-0400
TZOFFSETTO:-0500
TZNAME:EST
DTSTART:20281105T060000
END:STANDARD
END:VTIMEZONE
BEGIN:VEVENT
DTSTART;TZID=America/New_York:20261104T190000
DTEND;TZID=America/New_York:20261104T203000
DTSTAMP:20260422T180405
CREATED:20230707T201541Z
LAST-MODIFIED:20230707T201541Z
UID:10001852-1793818800-1793824200@refugehouseofgod.org
SUMMARY:Prayer & Strategies for Living (bible study)
DESCRIPTION:Come join us every Wednesday at 7 p.m. for prayer & strategies for living….
URL:https://refugehouseofgod.org/event/prayer-strategies-for-living-bible-study/2026-11-04/
LOCATION:Refuge House of God\, 500-B Ingle Street\, Charlotte\, NC\, 28216\, United States
CATEGORIES:events and more
GEO:35.2647235;-80.8744248
X-APPLE-STRUCTURED-LOCATION;VALUE=URI;X-ADDRESS=Refuge House of God 500-B Ingle Street Charlotte NC 28216 United States;X-APPLE-RADIUS=500;X-TITLE=500-B Ingle Street:geo:-80.8744248,35.2647235
END:VEVENT
BEGIN:VEVENT
DTSTART;TZID=America/New_York:20261111T190000
DTEND;TZID=America/New_York:20261111T203000
DTSTAMP:20260422T180405
CREATED:20230707T201541Z
LAST-MODIFIED:20230707T201541Z
UID:10001853-1794423600-1794429000@refugehouseofgod.org
SUMMARY:Prayer & Strategies for Living (bible study)
DESCRIPTION:Come join us every Wednesday at 7 p.m. for prayer & strategies for living….
URL:https://refugehouseofgod.org/event/prayer-strategies-for-living-bible-study/2026-11-11/
LOCATION:Refuge House of God\, 500-B Ingle Street\, Charlotte\, NC\, 28216\, United States
CATEGORIES:events and more
GEO:35.2647235;-80.8744248
X-APPLE-STRUCTURED-LOCATION;VALUE=URI;X-ADDRESS=Refuge House of God 500-B Ingle Street Charlotte NC 28216 United States;X-APPLE-RADIUS=500;X-TITLE=500-B Ingle Street:geo:-80.8744248,35.2647235
END:VEVENT
BEGIN:VEVENT
DTSTART;TZID=America/New_York:20261118T190000
DTEND;TZID=America/New_York:20261118T203000
DTSTAMP:20260422T180405
CREATED:20230707T201541Z
LAST-MODIFIED:20230707T201541Z
UID:10001854-1795028400-1795033800@refugehouseofgod.org
SUMMARY:Prayer & Strategies for Living (bible study)
DESCRIPTION:Come join us every Wednesday at 7 p.m. for prayer & strategies for living….
URL:https://refugehouseofgod.org/event/prayer-strategies-for-living-bible-study/2026-11-18/
LOCATION:Refuge House of God\, 500-B Ingle Street\, Charlotte\, NC\, 28216\, United States
CATEGORIES:events and more
GEO:35.2647235;-80.8744248
X-APPLE-STRUCTURED-LOCATION;VALUE=URI;X-ADDRESS=Refuge House of God 500-B Ingle Street Charlotte NC 28216 United States;X-APPLE-RADIUS=500;X-TITLE=500-B Ingle Street:geo:-80.8744248,35.2647235
END:VEVENT
BEGIN:VEVENT
DTSTART;TZID=America/New_York:20261125T190000
DTEND;TZID=America/New_York:20261125T203000
DTSTAMP:20260422T180405
CREATED:20230707T201541Z
LAST-MODIFIED:20230707T201541Z
UID:10001855-1795633200-1795638600@refugehouseofgod.org
SUMMARY:Prayer & Strategies for Living (bible study)
DESCRIPTION:Come join us every Wednesday at 7 p.m. for prayer & strategies for living….
URL:https://refugehouseofgod.org/event/prayer-strategies-for-living-bible-study/2026-11-25/
LOCATION:Refuge House of God\, 500-B Ingle Street\, Charlotte\, NC\, 28216\, United States
CATEGORIES:events and more
GEO:35.2647235;-80.8744248
X-APPLE-STRUCTURED-LOCATION;VALUE=URI;X-ADDRESS=Refuge House of God 500-B Ingle Street Charlotte NC 28216 United States;X-APPLE-RADIUS=500;X-TITLE=500-B Ingle Street:geo:-80.8744248,35.2647235
END:VEVENT
BEGIN:VEVENT
DTSTART;TZID=America/New_York:20261202T190000
DTEND;TZID=America/New_York:20261202T203000
DTSTAMP:20260422T180405
CREATED:20230707T201541Z
LAST-MODIFIED:20230707T201541Z
UID:10001856-1796238000-1796243400@refugehouseofgod.org
SUMMARY:Prayer & Strategies for Living (bible study)
DESCRIPTION:Come join us every Wednesday at 7 p.m. for prayer & strategies for living….
URL:https://refugehouseofgod.org/event/prayer-strategies-for-living-bible-study/2026-12-02/
LOCATION:Refuge House of God\, 500-B Ingle Street\, Charlotte\, NC\, 28216\, United States
CATEGORIES:events and more
GEO:35.2647235;-80.8744248
X-APPLE-STRUCTURED-LOCATION;VALUE=URI;X-ADDRESS=Refuge House of God 500-B Ingle Street Charlotte NC 28216 United States;X-APPLE-RADIUS=500;X-TITLE=500-B Ingle Street:geo:-80.8744248,35.2647235
END:VEVENT
BEGIN:VEVENT
DTSTART;TZID=America/New_York:20261209T190000
DTEND;TZID=America/New_York:20261209T203000
DTSTAMP:20260422T180405
CREATED:20230707T201541Z
LAST-MODIFIED:20230707T201541Z
UID:10001857-1796842800-1796848200@refugehouseofgod.org
SUMMARY:Prayer & Strategies for Living (bible study)
DESCRIPTION:Come join us every Wednesday at 7 p.m. for prayer & strategies for living….
URL:https://refugehouseofgod.org/event/prayer-strategies-for-living-bible-study/2026-12-09/
LOCATION:Refuge House of God\, 500-B Ingle Street\, Charlotte\, NC\, 28216\, United States
CATEGORIES:events and more
GEO:35.2647235;-80.8744248
X-APPLE-STRUCTURED-LOCATION;VALUE=URI;X-ADDRESS=Refuge House of God 500-B Ingle Street Charlotte NC 28216 United States;X-APPLE-RADIUS=500;X-TITLE=500-B Ingle Street:geo:-80.8744248,35.2647235
END:VEVENT
BEGIN:VEVENT
DTSTART;TZID=America/New_York:20261216T190000
DTEND;TZID=America/New_York:20261216T203000
DTSTAMP:20260422T180405
CREATED:20230707T201541Z
LAST-MODIFIED:20230707T201541Z
UID:10001858-1797447600-1797453000@refugehouseofgod.org
SUMMARY:Prayer & Strategies for Living (bible study)
DESCRIPTION:Come join us every Wednesday at 7 p.m. for prayer & strategies for living….
URL:https://refugehouseofgod.org/event/prayer-strategies-for-living-bible-study/2026-12-16/
LOCATION:Refuge House of God\, 500-B Ingle Street\, Charlotte\, NC\, 28216\, United States
CATEGORIES:events and more
GEO:35.2647235;-80.8744248
X-APPLE-STRUCTURED-LOCATION;VALUE=URI;X-ADDRESS=Refuge House of God 500-B Ingle Street Charlotte NC 28216 United States;X-APPLE-RADIUS=500;X-TITLE=500-B Ingle Street:geo:-80.8744248,35.2647235
END:VEVENT
BEGIN:VEVENT
DTSTART;TZID=America/New_York:20261223T190000
DTEND;TZID=America/New_York:20261223T203000
DTSTAMP:20260422T180405
CREATED:20230707T201541Z
LAST-MODIFIED:20230707T201541Z
UID:10001859-1798052400-1798057800@refugehouseofgod.org
SUMMARY:Prayer & Strategies for Living (bible study)
DESCRIPTION:Come join us every Wednesday at 7 p.m. for prayer & strategies for living….
URL:https://refugehouseofgod.org/event/prayer-strategies-for-living-bible-study/2026-12-23/
LOCATION:Refuge House of God\, 500-B Ingle Street\, Charlotte\, NC\, 28216\, United States
CATEGORIES:events and more
GEO:35.2647235;-80.8744248
X-APPLE-STRUCTURED-LOCATION;VALUE=URI;X-ADDRESS=Refuge House of God 500-B Ingle Street Charlotte NC 28216 United States;X-APPLE-RADIUS=500;X-TITLE=500-B Ingle Street:geo:-80.8744248,35.2647235
END:VEVENT
BEGIN:VEVENT
DTSTART;TZID=America/New_York:20261230T190000
DTEND;TZID=America/New_York:20261230T203000
DTSTAMP:20260422T180405
CREATED:20230707T201541Z
LAST-MODIFIED:20230707T201541Z
UID:10001860-1798657200-1798662600@refugehouseofgod.org
SUMMARY:Prayer & Strategies for Living (bible study)
DESCRIPTION:Come join us every Wednesday at 7 p.m. for prayer & strategies for living….
URL:https://refugehouseofgod.org/event/prayer-strategies-for-living-bible-study/2026-12-30/
LOCATION:Refuge House of God\, 500-B Ingle Street\, Charlotte\, NC\, 28216\, United States
CATEGORIES:events and more
GEO:35.2647235;-80.8744248
X-APPLE-STRUCTURED-LOCATION;VALUE=URI;X-ADDRESS=Refuge House of God 500-B Ingle Street Charlotte NC 28216 United States;X-APPLE-RADIUS=500;X-TITLE=500-B Ingle Street:geo:-80.8744248,35.2647235
END:VEVENT
BEGIN:VEVENT
DTSTART;TZID=America/New_York:20270106T190000
DTEND;TZID=America/New_York:20270106T203000
DTSTAMP:20260422T180405
CREATED:20230707T201541Z
LAST-MODIFIED:20230707T201541Z
UID:10001861-1799262000-1799267400@refugehouseofgod.org
SUMMARY:Prayer & Strategies for Living (bible study)
DESCRIPTION:Come join us every Wednesday at 7 p.m. for prayer & strategies for living….
URL:https://refugehouseofgod.org/event/prayer-strategies-for-living-bible-study/2027-01-06/
LOCATION:Refuge House of God\, 500-B Ingle Street\, Charlotte\, NC\, 28216\, United States
CATEGORIES:events and more
GEO:35.2647235;-80.8744248
X-APPLE-STRUCTURED-LOCATION;VALUE=URI;X-ADDRESS=Refuge House of God 500-B Ingle Street Charlotte NC 28216 United States;X-APPLE-RADIUS=500;X-TITLE=500-B Ingle Street:geo:-80.8744248,35.2647235
END:VEVENT
BEGIN:VEVENT
DTSTART;TZID=America/New_York:20270113T190000
DTEND;TZID=America/New_York:20270113T203000
DTSTAMP:20260422T180405
CREATED:20230707T201541Z
LAST-MODIFIED:20230707T201541Z
UID:10001862-1799866800-1799872200@refugehouseofgod.org
SUMMARY:Prayer & Strategies for Living (bible study)
DESCRIPTION:Come join us every Wednesday at 7 p.m. for prayer & strategies for living….
URL:https://refugehouseofgod.org/event/prayer-strategies-for-living-bible-study/2027-01-13/
LOCATION:Refuge House of God\, 500-B Ingle Street\, Charlotte\, NC\, 28216\, United States
CATEGORIES:events and more
GEO:35.2647235;-80.8744248
X-APPLE-STRUCTURED-LOCATION;VALUE=URI;X-ADDRESS=Refuge House of God 500-B Ingle Street Charlotte NC 28216 United States;X-APPLE-RADIUS=500;X-TITLE=500-B Ingle Street:geo:-80.8744248,35.2647235
END:VEVENT
BEGIN:VEVENT
DTSTART;TZID=America/New_York:20270120T190000
DTEND;TZID=America/New_York:20270120T203000
DTSTAMP:20260422T180405
CREATED:20230707T201541Z
LAST-MODIFIED:20230707T201541Z
UID:10001863-1800471600-1800477000@refugehouseofgod.org
SUMMARY:Prayer & Strategies for Living (bible study)
DESCRIPTION:Come join us every Wednesday at 7 p.m. for prayer & strategies for living….
URL:https://refugehouseofgod.org/event/prayer-strategies-for-living-bible-study/2027-01-20/
LOCATION:Refuge House of God\, 500-B Ingle Street\, Charlotte\, NC\, 28216\, United States
CATEGORIES:events and more
GEO:35.2647235;-80.8744248
X-APPLE-STRUCTURED-LOCATION;VALUE=URI;X-ADDRESS=Refuge House of God 500-B Ingle Street Charlotte NC 28216 United States;X-APPLE-RADIUS=500;X-TITLE=500-B Ingle Street:geo:-80.8744248,35.2647235
END:VEVENT
BEGIN:VEVENT
DTSTART;TZID=America/New_York:20270127T190000
DTEND;TZID=America/New_York:20270127T203000
DTSTAMP:20260422T180405
CREATED:20230707T201541Z
LAST-MODIFIED:20230707T201541Z
UID:10001864-1801076400-1801081800@refugehouseofgod.org
SUMMARY:Prayer & Strategies for Living (bible study)
DESCRIPTION:Come join us every Wednesday at 7 p.m. for prayer & strategies for living….
URL:https://refugehouseofgod.org/event/prayer-strategies-for-living-bible-study/2027-01-27/
LOCATION:Refuge House of God\, 500-B Ingle Street\, Charlotte\, NC\, 28216\, United States
CATEGORIES:events and more
GEO:35.2647235;-80.8744248
X-APPLE-STRUCTURED-LOCATION;VALUE=URI;X-ADDRESS=Refuge House of God 500-B Ingle Street Charlotte NC 28216 United States;X-APPLE-RADIUS=500;X-TITLE=500-B Ingle Street:geo:-80.8744248,35.2647235
END:VEVENT
BEGIN:VEVENT
DTSTART;TZID=America/New_York:20270203T190000
DTEND;TZID=America/New_York:20270203T203000
DTSTAMP:20260422T180405
CREATED:20230707T201541Z
LAST-MODIFIED:20230707T201541Z
UID:10001865-1801681200-1801686600@refugehouseofgod.org
SUMMARY:Prayer & Strategies for Living (bible study)
DESCRIPTION:Come join us every Wednesday at 7 p.m. for prayer & strategies for living….
URL:https://refugehouseofgod.org/event/prayer-strategies-for-living-bible-study/2027-02-03/
LOCATION:Refuge House of God\, 500-B Ingle Street\, Charlotte\, NC\, 28216\, United States
CATEGORIES:events and more
GEO:35.2647235;-80.8744248
X-APPLE-STRUCTURED-LOCATION;VALUE=URI;X-ADDRESS=Refuge House of God 500-B Ingle Street Charlotte NC 28216 United States;X-APPLE-RADIUS=500;X-TITLE=500-B Ingle Street:geo:-80.8744248,35.2647235
END:VEVENT
BEGIN:VEVENT
DTSTART;TZID=America/New_York:20270210T190000
DTEND;TZID=America/New_York:20270210T203000
DTSTAMP:20260422T180405
CREATED:20230707T201541Z
LAST-MODIFIED:20230707T201541Z
UID:10001866-1802286000-1802291400@refugehouseofgod.org
SUMMARY:Prayer & Strategies for Living (bible study)
DESCRIPTION:Come join us every Wednesday at 7 p.m. for prayer & strategies for living….
URL:https://refugehouseofgod.org/event/prayer-strategies-for-living-bible-study/2027-02-10/
LOCATION:Refuge House of God\, 500-B Ingle Street\, Charlotte\, NC\, 28216\, United States
CATEGORIES:events and more
GEO:35.2647235;-80.8744248
X-APPLE-STRUCTURED-LOCATION;VALUE=URI;X-ADDRESS=Refuge House of God 500-B Ingle Street Charlotte NC 28216 United States;X-APPLE-RADIUS=500;X-TITLE=500-B Ingle Street:geo:-80.8744248,35.2647235
END:VEVENT
BEGIN:VEVENT
DTSTART;TZID=America/New_York:20270217T190000
DTEND;TZID=America/New_York:20270217T203000
DTSTAMP:20260422T180405
CREATED:20230707T201541Z
LAST-MODIFIED:20230707T201541Z
UID:10001867-1802890800-1802896200@refugehouseofgod.org
SUMMARY:Prayer & Strategies for Living (bible study)
DESCRIPTION:Come join us every Wednesday at 7 p.m. for prayer & strategies for living….
URL:https://refugehouseofgod.org/event/prayer-strategies-for-living-bible-study/2027-02-17/
LOCATION:Refuge House of God\, 500-B Ingle Street\, Charlotte\, NC\, 28216\, United States
CATEGORIES:events and more
GEO:35.2647235;-80.8744248
X-APPLE-STRUCTURED-LOCATION;VALUE=URI;X-ADDRESS=Refuge House of God 500-B Ingle Street Charlotte NC 28216 United States;X-APPLE-RADIUS=500;X-TITLE=500-B Ingle Street:geo:-80.8744248,35.2647235
END:VEVENT
BEGIN:VEVENT
DTSTART;TZID=America/New_York:20270224T190000
DTEND;TZID=America/New_York:20270224T203000
DTSTAMP:20260422T180405
CREATED:20230707T201541Z
LAST-MODIFIED:20230707T201541Z
UID:10001868-1803495600-1803501000@refugehouseofgod.org
SUMMARY:Prayer & Strategies for Living (bible study)
DESCRIPTION:Come join us every Wednesday at 7 p.m. for prayer & strategies for living….
URL:https://refugehouseofgod.org/event/prayer-strategies-for-living-bible-study/2027-02-24/
LOCATION:Refuge House of God\, 500-B Ingle Street\, Charlotte\, NC\, 28216\, United States
CATEGORIES:events and more
GEO:35.2647235;-80.8744248
X-APPLE-STRUCTURED-LOCATION;VALUE=URI;X-ADDRESS=Refuge House of God 500-B Ingle Street Charlotte NC 28216 United States;X-APPLE-RADIUS=500;X-TITLE=500-B Ingle Street:geo:-80.8744248,35.2647235
END:VEVENT
BEGIN:VEVENT
DTSTART;TZID=America/New_York:20270303T190000
DTEND;TZID=America/New_York:20270303T203000
DTSTAMP:20260422T180405
CREATED:20230707T201541Z
LAST-MODIFIED:20230707T201541Z
UID:10001869-1804100400-1804105800@refugehouseofgod.org
SUMMARY:Prayer & Strategies for Living (bible study)
DESCRIPTION:Come join us every Wednesday at 7 p.m. for prayer & strategies for living….
URL:https://refugehouseofgod.org/event/prayer-strategies-for-living-bible-study/2027-03-03/
LOCATION:Refuge House of God\, 500-B Ingle Street\, Charlotte\, NC\, 28216\, United States
CATEGORIES:events and more
GEO:35.2647235;-80.8744248
X-APPLE-STRUCTURED-LOCATION;VALUE=URI;X-ADDRESS=Refuge House of God 500-B Ingle Street Charlotte NC 28216 United States;X-APPLE-RADIUS=500;X-TITLE=500-B Ingle Street:geo:-80.8744248,35.2647235
END:VEVENT
BEGIN:VEVENT
DTSTART;TZID=America/New_York:20270310T190000
DTEND;TZID=America/New_York:20270310T203000
DTSTAMP:20260422T180405
CREATED:20230707T201541Z
LAST-MODIFIED:20230707T201541Z
UID:10001870-1804705200-1804710600@refugehouseofgod.org
SUMMARY:Prayer & Strategies for Living (bible study)
DESCRIPTION:Come join us every Wednesday at 7 p.m. for prayer & strategies for living….
URL:https://refugehouseofgod.org/event/prayer-strategies-for-living-bible-study/2027-03-10/
LOCATION:Refuge House of God\, 500-B Ingle Street\, Charlotte\, NC\, 28216\, United States
CATEGORIES:events and more
GEO:35.2647235;-80.8744248
X-APPLE-STRUCTURED-LOCATION;VALUE=URI;X-ADDRESS=Refuge House of God 500-B Ingle Street Charlotte NC 28216 United States;X-APPLE-RADIUS=500;X-TITLE=500-B Ingle Street:geo:-80.8744248,35.2647235
END:VEVENT
BEGIN:VEVENT
DTSTART;TZID=America/New_York:20270317T190000
DTEND;TZID=America/New_York:20270317T203000
DTSTAMP:20260422T180405
CREATED:20230707T201541Z
LAST-MODIFIED:20230707T201541Z
UID:10001871-1805310000-1805315400@refugehouseofgod.org
SUMMARY:Prayer & Strategies for Living (bible study)
DESCRIPTION:Come join us every Wednesday at 7 p.m. for prayer & strategies for living….
URL:https://refugehouseofgod.org/event/prayer-strategies-for-living-bible-study/2027-03-17/
LOCATION:Refuge House of God\, 500-B Ingle Street\, Charlotte\, NC\, 28216\, United States
CATEGORIES:events and more
GEO:35.2647235;-80.8744248
X-APPLE-STRUCTURED-LOCATION;VALUE=URI;X-ADDRESS=Refuge House of God 500-B Ingle Street Charlotte NC 28216 United States;X-APPLE-RADIUS=500;X-TITLE=500-B Ingle Street:geo:-80.8744248,35.2647235
END:VEVENT
BEGIN:VEVENT
DTSTART;TZID=America/New_York:20270324T190000
DTEND;TZID=America/New_York:20270324T203000
DTSTAMP:20260422T180405
CREATED:20230707T201541Z
LAST-MODIFIED:20230707T201541Z
UID:10001872-1805914800-1805920200@refugehouseofgod.org
SUMMARY:Prayer & Strategies for Living (bible study)
DESCRIPTION:Come join us every Wednesday at 7 p.m. for prayer & strategies for living….
URL:https://refugehouseofgod.org/event/prayer-strategies-for-living-bible-study/2027-03-24/
LOCATION:Refuge House of God\, 500-B Ingle Street\, Charlotte\, NC\, 28216\, United States
CATEGORIES:events and more
GEO:35.2647235;-80.8744248
X-APPLE-STRUCTURED-LOCATION;VALUE=URI;X-ADDRESS=Refuge House of God 500-B Ingle Street Charlotte NC 28216 United States;X-APPLE-RADIUS=500;X-TITLE=500-B Ingle Street:geo:-80.8744248,35.2647235
END:VEVENT
BEGIN:VEVENT
DTSTART;TZID=America/New_York:20270331T190000
DTEND;TZID=America/New_York:20270331T203000
DTSTAMP:20260422T180405
CREATED:20230707T201541Z
LAST-MODIFIED:20230707T201541Z
UID:10001873-1806519600-1806525000@refugehouseofgod.org
SUMMARY:Prayer & Strategies for Living (bible study)
DESCRIPTION:Come join us every Wednesday at 7 p.m. for prayer & strategies for living….
URL:https://refugehouseofgod.org/event/prayer-strategies-for-living-bible-study/2027-03-31/
LOCATION:Refuge House of God\, 500-B Ingle Street\, Charlotte\, NC\, 28216\, United States
CATEGORIES:events and more
GEO:35.2647235;-80.8744248
X-APPLE-STRUCTURED-LOCATION;VALUE=URI;X-ADDRESS=Refuge House of God 500-B Ingle Street Charlotte NC 28216 United States;X-APPLE-RADIUS=500;X-TITLE=500-B Ingle Street:geo:-80.8744248,35.2647235
END:VEVENT
BEGIN:VEVENT
DTSTART;TZID=America/New_York:20270407T190000
DTEND;TZID=America/New_York:20270407T203000
DTSTAMP:20260422T180405
CREATED:20230707T201541Z
LAST-MODIFIED:20230707T201541Z
UID:10001874-1807124400-1807129800@refugehouseofgod.org
SUMMARY:Prayer & Strategies for Living (bible study)
DESCRIPTION:Come join us every Wednesday at 7 p.m. for prayer & strategies for living….
URL:https://refugehouseofgod.org/event/prayer-strategies-for-living-bible-study/2027-04-07/
LOCATION:Refuge House of God\, 500-B Ingle Street\, Charlotte\, NC\, 28216\, United States
CATEGORIES:events and more
GEO:35.2647235;-80.8744248
X-APPLE-STRUCTURED-LOCATION;VALUE=URI;X-ADDRESS=Refuge House of God 500-B Ingle Street Charlotte NC 28216 United States;X-APPLE-RADIUS=500;X-TITLE=500-B Ingle Street:geo:-80.8744248,35.2647235
END:VEVENT
BEGIN:VEVENT
DTSTART;TZID=America/New_York:20270414T190000
DTEND;TZID=America/New_York:20270414T203000
DTSTAMP:20260422T180405
CREATED:20230707T201541Z
LAST-MODIFIED:20230707T201541Z
UID:10001875-1807729200-1807734600@refugehouseofgod.org
SUMMARY:Prayer & Strategies for Living (bible study)
DESCRIPTION:Come join us every Wednesday at 7 p.m. for prayer & strategies for living….
URL:https://refugehouseofgod.org/event/prayer-strategies-for-living-bible-study/2027-04-14/
LOCATION:Refuge House of God\, 500-B Ingle Street\, Charlotte\, NC\, 28216\, United States
CATEGORIES:events and more
GEO:35.2647235;-80.8744248
X-APPLE-STRUCTURED-LOCATION;VALUE=URI;X-ADDRESS=Refuge House of God 500-B Ingle Street Charlotte NC 28216 United States;X-APPLE-RADIUS=500;X-TITLE=500-B Ingle Street:geo:-80.8744248,35.2647235
END:VEVENT
BEGIN:VEVENT
DTSTART;TZID=America/New_York:20270421T190000
DTEND;TZID=America/New_York:20270421T203000
DTSTAMP:20260422T180405
CREATED:20230707T201541Z
LAST-MODIFIED:20230707T201541Z
UID:10001876-1808334000-1808339400@refugehouseofgod.org
SUMMARY:Prayer & Strategies for Living (bible study)
DESCRIPTION:Come join us every Wednesday at 7 p.m. for prayer & strategies for living….
URL:https://refugehouseofgod.org/event/prayer-strategies-for-living-bible-study/2027-04-21/
LOCATION:Refuge House of God\, 500-B Ingle Street\, Charlotte\, NC\, 28216\, United States
CATEGORIES:events and more
GEO:35.2647235;-80.8744248
X-APPLE-STRUCTURED-LOCATION;VALUE=URI;X-ADDRESS=Refuge House of God 500-B Ingle Street Charlotte NC 28216 United States;X-APPLE-RADIUS=500;X-TITLE=500-B Ingle Street:geo:-80.8744248,35.2647235
END:VEVENT
BEGIN:VEVENT
DTSTART;TZID=America/New_York:20270428T190000
DTEND;TZID=America/New_York:20270428T203000
DTSTAMP:20260422T180405
CREATED:20230707T201541Z
LAST-MODIFIED:20230707T201541Z
UID:10001877-1808938800-1808944200@refugehouseofgod.org
SUMMARY:Prayer & Strategies for Living (bible study)
DESCRIPTION:Come join us every Wednesday at 7 p.m. for prayer & strategies for living….
URL:https://refugehouseofgod.org/event/prayer-strategies-for-living-bible-study/2027-04-28/
LOCATION:Refuge House of God\, 500-B Ingle Street\, Charlotte\, NC\, 28216\, United States
CATEGORIES:events and more
GEO:35.2647235;-80.8744248
X-APPLE-STRUCTURED-LOCATION;VALUE=URI;X-ADDRESS=Refuge House of God 500-B Ingle Street Charlotte NC 28216 United States;X-APPLE-RADIUS=500;X-TITLE=500-B Ingle Street:geo:-80.8744248,35.2647235
END:VEVENT
BEGIN:VEVENT
DTSTART;TZID=America/New_York:20270505T190000
DTEND;TZID=America/New_York:20270505T203000
DTSTAMP:20260422T180405
CREATED:20230707T201541Z
LAST-MODIFIED:20230707T201541Z
UID:10001878-1809543600-1809549000@refugehouseofgod.org
SUMMARY:Prayer & Strategies for Living (bible study)
DESCRIPTION:Come join us every Wednesday at 7 p.m. for prayer & strategies for living….
URL:https://refugehouseofgod.org/event/prayer-strategies-for-living-bible-study/2027-05-05/
LOCATION:Refuge House of God\, 500-B Ingle Street\, Charlotte\, NC\, 28216\, United States
CATEGORIES:events and more
GEO:35.2647235;-80.8744248
X-APPLE-STRUCTURED-LOCATION;VALUE=URI;X-ADDRESS=Refuge House of God 500-B Ingle Street Charlotte NC 28216 United States;X-APPLE-RADIUS=500;X-TITLE=500-B Ingle Street:geo:-80.8744248,35.2647235
END:VEVENT
BEGIN:VEVENT
DTSTART;TZID=America/New_York:20270512T190000
DTEND;TZID=America/New_York:20270512T203000
DTSTAMP:20260422T180405
CREATED:20230707T201541Z
LAST-MODIFIED:20230707T201541Z
UID:10001879-1810148400-1810153800@refugehouseofgod.org
SUMMARY:Prayer & Strategies for Living (bible study)
DESCRIPTION:Come join us every Wednesday at 7 p.m. for prayer & strategies for living….
URL:https://refugehouseofgod.org/event/prayer-strategies-for-living-bible-study/2027-05-12/
LOCATION:Refuge House of God\, 500-B Ingle Street\, Charlotte\, NC\, 28216\, United States
CATEGORIES:events and more
GEO:35.2647235;-80.8744248
X-APPLE-STRUCTURED-LOCATION;VALUE=URI;X-ADDRESS=Refuge House of God 500-B Ingle Street Charlotte NC 28216 United States;X-APPLE-RADIUS=500;X-TITLE=500-B Ingle Street:geo:-80.8744248,35.2647235
END:VEVENT
BEGIN:VEVENT
DTSTART;TZID=America/New_York:20270519T190000
DTEND;TZID=America/New_York:20270519T203000
DTSTAMP:20260422T180405
CREATED:20230707T201541Z
LAST-MODIFIED:20230707T201541Z
UID:10001880-1810753200-1810758600@refugehouseofgod.org
SUMMARY:Prayer & Strategies for Living (bible study)
DESCRIPTION:Come join us every Wednesday at 7 p.m. for prayer & strategies for living….
URL:https://refugehouseofgod.org/event/prayer-strategies-for-living-bible-study/2027-05-19/
LOCATION:Refuge House of God\, 500-B Ingle Street\, Charlotte\, NC\, 28216\, United States
CATEGORIES:events and more
GEO:35.2647235;-80.8744248
X-APPLE-STRUCTURED-LOCATION;VALUE=URI;X-ADDRESS=Refuge House of God 500-B Ingle Street Charlotte NC 28216 United States;X-APPLE-RADIUS=500;X-TITLE=500-B Ingle Street:geo:-80.8744248,35.2647235
END:VEVENT
BEGIN:VEVENT
DTSTART;TZID=America/New_York:20270526T190000
DTEND;TZID=America/New_York:20270526T203000
DTSTAMP:20260422T180405
CREATED:20230707T201541Z
LAST-MODIFIED:20230707T201541Z
UID:10001881-1811358000-1811363400@refugehouseofgod.org
SUMMARY:Prayer & Strategies for Living (bible study)
DESCRIPTION:Come join us every Wednesday at 7 p.m. for prayer & strategies for living….
URL:https://refugehouseofgod.org/event/prayer-strategies-for-living-bible-study/2027-05-26/
LOCATION:Refuge House of God\, 500-B Ingle Street\, Charlotte\, NC\, 28216\, United States
CATEGORIES:events and more
GEO:35.2647235;-80.8744248
X-APPLE-STRUCTURED-LOCATION;VALUE=URI;X-ADDRESS=Refuge House of God 500-B Ingle Street Charlotte NC 28216 United States;X-APPLE-RADIUS=500;X-TITLE=500-B Ingle Street:geo:-80.8744248,35.2647235
END:VEVENT
END:VCALENDAR