BEGIN:VCALENDAR
VERSION:2.0
PRODID:-//Refuge House of God | Charlotte NC - ECPv6.15.17//NONSGML v1.0//EN
CALSCALE:GREGORIAN
METHOD:PUBLISH
X-WR-CALNAME:Refuge House of God | Charlotte NC
X-ORIGINAL-URL:https://refugehouseofgod.org
X-WR-CALDESC:Events for Refuge House of God | Charlotte NC
REFRESH-INTERVAL;VALUE=DURATION:PT1H
X-Robots-Tag:noindex
X-PUBLISHED-TTL:PT1H
BEGIN:VTIMEZONE
TZID:America/New_York
BEGIN:DAYLIGHT
TZOFFSETFROM:-0500
TZOFFSETTO:-0400
TZNAME:EDT
DTSTART:20210314T070000
END:DAYLIGHT
BEGIN:STANDARD
TZOFFSETFROM:-0400
TZOFFSETTO:-0500
TZNAME:EST
DTSTART:20211107T060000
END:STANDARD
BEGIN:DAYLIGHT
TZOFFSETFROM:-0500
TZOFFSETTO:-0400
TZNAME:EDT
DTSTART:20220313T070000
END:DAYLIGHT
BEGIN:STANDARD
TZOFFSETFROM:-0400
TZOFFSETTO:-0500
TZNAME:EST
DTSTART:20221106T060000
END:STANDARD
BEGIN:DAYLIGHT
TZOFFSETFROM:-0500
TZOFFSETTO:-0400
TZNAME:EDT
DTSTART:20230312T070000
END:DAYLIGHT
BEGIN:STANDARD
TZOFFSETFROM:-0400
TZOFFSETTO:-0500
TZNAME:EST
DTSTART:20231105T060000
END:STANDARD
END:VTIMEZONE
BEGIN:VEVENT
DTSTART;VALUE=DATE:20220417
DTEND;VALUE=DATE:20220418
DTSTAMP:20260423T060225
CREATED:20220409T043618Z
LAST-MODIFIED:20220409T050200Z
UID:10001678-1650153600-1650239999@refugehouseofgod.org
SUMMARY:Easter at Refuge
DESCRIPTION:
URL:https://refugehouseofgod.org/event/easter-at-refuge/
LOCATION:Refuge House of God\, 500-B Ingle Street\, Charlotte\, NC\, 28216\, United States
CATEGORIES:events and more
ATTACH;FMTTYPE=image/jpeg:https://refugehouseofgod.org/wp-content/uploads/2022/04/1.jpg
GEO:35.2647235;-80.8744248
X-APPLE-STRUCTURED-LOCATION;VALUE=URI;X-ADDRESS=Refuge House of God 500-B Ingle Street Charlotte NC 28216 United States;X-APPLE-RADIUS=500;X-TITLE=500-B Ingle Street:geo:-80.8744248,35.2647235
END:VEVENT
END:VCALENDAR