BEGIN:VCALENDAR
VERSION:2.0
PRODID:-//Refuge House of God | Charlotte NC - ECPv6.15.17//NONSGML v1.0//EN
CALSCALE:GREGORIAN
METHOD:PUBLISH
X-WR-CALNAME:Refuge House of God | Charlotte NC
X-ORIGINAL-URL:https://refugehouseofgod.org
X-WR-CALDESC:Events for Refuge House of God | Charlotte NC
REFRESH-INTERVAL;VALUE=DURATION:PT1H
X-Robots-Tag:noindex
X-PUBLISHED-TTL:PT1H
BEGIN:VTIMEZONE
TZID:America/New_York
BEGIN:DAYLIGHT
TZOFFSETFROM:-0500
TZOFFSETTO:-0400
TZNAME:EDT
DTSTART:20240310T070000
END:DAYLIGHT
BEGIN:STANDARD
TZOFFSETFROM:-0400
TZOFFSETTO:-0500
TZNAME:EST
DTSTART:20241103T060000
END:STANDARD
BEGIN:DAYLIGHT
TZOFFSETFROM:-0500
TZOFFSETTO:-0400
TZNAME:EDT
DTSTART:20250309T070000
END:DAYLIGHT
BEGIN:STANDARD
TZOFFSETFROM:-0400
TZOFFSETTO:-0500
TZNAME:EST
DTSTART:20251102T060000
END:STANDARD
BEGIN:DAYLIGHT
TZOFFSETFROM:-0500
TZOFFSETTO:-0400
TZNAME:EDT
DTSTART:20260308T070000
END:DAYLIGHT
BEGIN:STANDARD
TZOFFSETFROM:-0400
TZOFFSETTO:-0500
TZNAME:EST
DTSTART:20261101T060000
END:STANDARD
END:VTIMEZONE
BEGIN:VEVENT
DTSTART;TZID=America/New_York:20250822T180000
DTEND;TZID=America/New_York:20250822T220000
DTSTAMP:20260423T051729
CREATED:20240713T020857Z
LAST-MODIFIED:20240713T020857Z
UID:10002279-1755885600-1755900000@refugehouseofgod.org
SUMMARY:Parent's Night Out - 4th Friday
DESCRIPTION:
URL:https://refugehouseofgod.org/event/parents-night-out-4th-friday/2025-08-22/
LOCATION:Refuge House of God\, 500-B Ingle Street\, Charlotte\, NC\, 28216\, United States
ATTACH;FMTTYPE=image/jpeg:https://refugehouseofgod.org/wp-content/uploads/2024/07/Parents-Night-Out-Refuge.jpeg
GEO:35.2647235;-80.8744248
X-APPLE-STRUCTURED-LOCATION;VALUE=URI;X-ADDRESS=Refuge House of God 500-B Ingle Street Charlotte NC 28216 United States;X-APPLE-RADIUS=500;X-TITLE=500-B Ingle Street:geo:-80.8744248,35.2647235
END:VEVENT
BEGIN:VEVENT
DTSTART;TZID=America/New_York:20250820T190000
DTEND;TZID=America/New_York:20250820T203000
DTSTAMP:20260423T051729
CREATED:20230707T201541Z
LAST-MODIFIED:20230707T201541Z
UID:10001789-1755716400-1755721800@refugehouseofgod.org
SUMMARY:Prayer & Strategies for Living (bible study)
DESCRIPTION:Come join us every Wednesday at 7 p.m. for prayer & strategies for living….
URL:https://refugehouseofgod.org/event/prayer-strategies-for-living-bible-study/2025-08-20/
LOCATION:Refuge House of God\, 500-B Ingle Street\, Charlotte\, NC\, 28216\, United States
CATEGORIES:events and more
GEO:35.2647235;-80.8744248
X-APPLE-STRUCTURED-LOCATION;VALUE=URI;X-ADDRESS=Refuge House of God 500-B Ingle Street Charlotte NC 28216 United States;X-APPLE-RADIUS=500;X-TITLE=500-B Ingle Street:geo:-80.8744248,35.2647235
END:VEVENT
BEGIN:VEVENT
DTSTART;TZID=America/New_York:20250813T190000
DTEND;TZID=America/New_York:20250813T203000
DTSTAMP:20260423T051729
CREATED:20230707T201541Z
LAST-MODIFIED:20230707T201541Z
UID:10001788-1755111600-1755117000@refugehouseofgod.org
SUMMARY:Prayer & Strategies for Living (bible study)
DESCRIPTION:Come join us every Wednesday at 7 p.m. for prayer & strategies for living….
URL:https://refugehouseofgod.org/event/prayer-strategies-for-living-bible-study/2025-08-13/
LOCATION:Refuge House of God\, 500-B Ingle Street\, Charlotte\, NC\, 28216\, United States
CATEGORIES:events and more
GEO:35.2647235;-80.8744248
X-APPLE-STRUCTURED-LOCATION;VALUE=URI;X-ADDRESS=Refuge House of God 500-B Ingle Street Charlotte NC 28216 United States;X-APPLE-RADIUS=500;X-TITLE=500-B Ingle Street:geo:-80.8744248,35.2647235
END:VEVENT
BEGIN:VEVENT
DTSTART;TZID=America/New_York:20250806T190000
DTEND;TZID=America/New_York:20250806T203000
DTSTAMP:20260423T051729
CREATED:20230707T201541Z
LAST-MODIFIED:20230707T201541Z
UID:10001787-1754506800-1754512200@refugehouseofgod.org
SUMMARY:Prayer & Strategies for Living (bible study)
DESCRIPTION:Come join us every Wednesday at 7 p.m. for prayer & strategies for living….
URL:https://refugehouseofgod.org/event/prayer-strategies-for-living-bible-study/2025-08-06/
LOCATION:Refuge House of God\, 500-B Ingle Street\, Charlotte\, NC\, 28216\, United States
CATEGORIES:events and more
GEO:35.2647235;-80.8744248
X-APPLE-STRUCTURED-LOCATION;VALUE=URI;X-ADDRESS=Refuge House of God 500-B Ingle Street Charlotte NC 28216 United States;X-APPLE-RADIUS=500;X-TITLE=500-B Ingle Street:geo:-80.8744248,35.2647235
END:VEVENT
BEGIN:VEVENT
DTSTART;TZID=America/New_York:20250730T190000
DTEND;TZID=America/New_York:20250730T203000
DTSTAMP:20260423T051729
CREATED:20230707T201541Z
LAST-MODIFIED:20230707T201541Z
UID:10001786-1753902000-1753907400@refugehouseofgod.org
SUMMARY:Prayer & Strategies for Living (bible study)
DESCRIPTION:Come join us every Wednesday at 7 p.m. for prayer & strategies for living….
URL:https://refugehouseofgod.org/event/prayer-strategies-for-living-bible-study/2025-07-30/
LOCATION:Refuge House of God\, 500-B Ingle Street\, Charlotte\, NC\, 28216\, United States
CATEGORIES:events and more
GEO:35.2647235;-80.8744248
X-APPLE-STRUCTURED-LOCATION;VALUE=URI;X-ADDRESS=Refuge House of God 500-B Ingle Street Charlotte NC 28216 United States;X-APPLE-RADIUS=500;X-TITLE=500-B Ingle Street:geo:-80.8744248,35.2647235
END:VEVENT
BEGIN:VEVENT
DTSTART;TZID=America/New_York:20250726T080000
DTEND;TZID=America/New_York:20250726T093000
DTSTAMP:20260423T051729
CREATED:20240713T020254Z
LAST-MODIFIED:20240713T020332Z
UID:10002218-1753516800-1753522200@refugehouseofgod.org
SUMMARY:4th Saturday Prayer
DESCRIPTION:Man ought to always pray and not faint!!! Come pray with us!
URL:https://refugehouseofgod.org/event/4th-saturday-prayer/2025-07-26/
LOCATION:Refuge House of God\, 500-B Ingle Street\, Charlotte\, NC\, 28216\, United States
CATEGORIES:events and more
ATTACH;FMTTYPE=image/jpeg:https://refugehouseofgod.org/wp-content/uploads/2024/07/4th-saturday-prayer-flyer.jpg
GEO:35.2647235;-80.8744248
X-APPLE-STRUCTURED-LOCATION;VALUE=URI;X-ADDRESS=Refuge House of God 500-B Ingle Street Charlotte NC 28216 United States;X-APPLE-RADIUS=500;X-TITLE=500-B Ingle Street:geo:-80.8744248,35.2647235
END:VEVENT
BEGIN:VEVENT
DTSTART;TZID=America/New_York:20250725T180000
DTEND;TZID=America/New_York:20250725T220000
DTSTAMP:20260423T051729
CREATED:20240713T020857Z
LAST-MODIFIED:20240713T020857Z
UID:10002278-1753466400-1753480800@refugehouseofgod.org
SUMMARY:Parent's Night Out - 4th Friday
DESCRIPTION:
URL:https://refugehouseofgod.org/event/parents-night-out-4th-friday/2025-07-25/
LOCATION:Refuge House of God\, 500-B Ingle Street\, Charlotte\, NC\, 28216\, United States
ATTACH;FMTTYPE=image/jpeg:https://refugehouseofgod.org/wp-content/uploads/2024/07/Parents-Night-Out-Refuge.jpeg
GEO:35.2647235;-80.8744248
X-APPLE-STRUCTURED-LOCATION;VALUE=URI;X-ADDRESS=Refuge House of God 500-B Ingle Street Charlotte NC 28216 United States;X-APPLE-RADIUS=500;X-TITLE=500-B Ingle Street:geo:-80.8744248,35.2647235
END:VEVENT
BEGIN:VEVENT
DTSTART;TZID=America/New_York:20250723T190000
DTEND;TZID=America/New_York:20250723T203000
DTSTAMP:20260423T051729
CREATED:20230707T201541Z
LAST-MODIFIED:20230707T201541Z
UID:10001785-1753297200-1753302600@refugehouseofgod.org
SUMMARY:Prayer & Strategies for Living (bible study)
DESCRIPTION:Come join us every Wednesday at 7 p.m. for prayer & strategies for living….
URL:https://refugehouseofgod.org/event/prayer-strategies-for-living-bible-study/2025-07-23/
LOCATION:Refuge House of God\, 500-B Ingle Street\, Charlotte\, NC\, 28216\, United States
CATEGORIES:events and more
GEO:35.2647235;-80.8744248
X-APPLE-STRUCTURED-LOCATION;VALUE=URI;X-ADDRESS=Refuge House of God 500-B Ingle Street Charlotte NC 28216 United States;X-APPLE-RADIUS=500;X-TITLE=500-B Ingle Street:geo:-80.8744248,35.2647235
END:VEVENT
BEGIN:VEVENT
DTSTART;TZID=America/New_York:20250716T190000
DTEND;TZID=America/New_York:20250716T203000
DTSTAMP:20260423T051729
CREATED:20230707T201541Z
LAST-MODIFIED:20230707T201541Z
UID:10001784-1752692400-1752697800@refugehouseofgod.org
SUMMARY:Prayer & Strategies for Living (bible study)
DESCRIPTION:Come join us every Wednesday at 7 p.m. for prayer & strategies for living….
URL:https://refugehouseofgod.org/event/prayer-strategies-for-living-bible-study/2025-07-16/
LOCATION:Refuge House of God\, 500-B Ingle Street\, Charlotte\, NC\, 28216\, United States
CATEGORIES:events and more
GEO:35.2647235;-80.8744248
X-APPLE-STRUCTURED-LOCATION;VALUE=URI;X-ADDRESS=Refuge House of God 500-B Ingle Street Charlotte NC 28216 United States;X-APPLE-RADIUS=500;X-TITLE=500-B Ingle Street:geo:-80.8744248,35.2647235
END:VEVENT
BEGIN:VEVENT
DTSTART;TZID=America/New_York:20250709T190000
DTEND;TZID=America/New_York:20250709T203000
DTSTAMP:20260423T051729
CREATED:20230707T201541Z
LAST-MODIFIED:20230707T201541Z
UID:10001783-1752087600-1752093000@refugehouseofgod.org
SUMMARY:Prayer & Strategies for Living (bible study)
DESCRIPTION:Come join us every Wednesday at 7 p.m. for prayer & strategies for living….
URL:https://refugehouseofgod.org/event/prayer-strategies-for-living-bible-study/2025-07-09/
LOCATION:Refuge House of God\, 500-B Ingle Street\, Charlotte\, NC\, 28216\, United States
CATEGORIES:events and more
GEO:35.2647235;-80.8744248
X-APPLE-STRUCTURED-LOCATION;VALUE=URI;X-ADDRESS=Refuge House of God 500-B Ingle Street Charlotte NC 28216 United States;X-APPLE-RADIUS=500;X-TITLE=500-B Ingle Street:geo:-80.8744248,35.2647235
END:VEVENT
BEGIN:VEVENT
DTSTART;TZID=America/New_York:20250706T113000
DTEND;TZID=America/New_York:20250706T133000
DTSTAMP:20260423T051729
CREATED:20200117T150420Z
LAST-MODIFIED:20210131T052925Z
UID:10001114-1751801400-1751808600@refugehouseofgod.org
SUMMARY:Sunday Morning Worship Experience
DESCRIPTION:Join us every Sunday morning for our worship experience…..where we teach and preach the word of God….standing on biblical principles for life and relationships. We participate in dynamic worship and we fellowship with our brothers and sisters creating an environment for God’s presence. \n 
URL:https://refugehouseofgod.org/event/sunday-morning-worship-experience/2025-07-06/
LOCATION:Refuge House of God\, 500-B Ingle Street\, Charlotte\, NC\, 28216\, United States
CATEGORIES:events and more
ATTACH;FMTTYPE=image/jpeg:https://refugehouseofgod.org/wp-content/uploads/2020/04/IMG_8911.jpg
ORGANIZER;CN="Refuge Admin":MAILTO:refugehouseofgod@msn.com
GEO:35.2647235;-80.8744248
X-APPLE-STRUCTURED-LOCATION;VALUE=URI;X-ADDRESS=Refuge House of God 500-B Ingle Street Charlotte NC 28216 United States;X-APPLE-RADIUS=500;X-TITLE=500-B Ingle Street:geo:-80.8744248,35.2647235
END:VEVENT
BEGIN:VEVENT
DTSTART;TZID=America/New_York:20250702T190000
DTEND;TZID=America/New_York:20250702T203000
DTSTAMP:20260423T051729
CREATED:20230707T201541Z
LAST-MODIFIED:20230707T201541Z
UID:10001782-1751482800-1751488200@refugehouseofgod.org
SUMMARY:Prayer & Strategies for Living (bible study)
DESCRIPTION:Come join us every Wednesday at 7 p.m. for prayer & strategies for living….
URL:https://refugehouseofgod.org/event/prayer-strategies-for-living-bible-study/2025-07-02/
LOCATION:Refuge House of God\, 500-B Ingle Street\, Charlotte\, NC\, 28216\, United States
CATEGORIES:events and more
GEO:35.2647235;-80.8744248
X-APPLE-STRUCTURED-LOCATION;VALUE=URI;X-ADDRESS=Refuge House of God 500-B Ingle Street Charlotte NC 28216 United States;X-APPLE-RADIUS=500;X-TITLE=500-B Ingle Street:geo:-80.8744248,35.2647235
END:VEVENT
BEGIN:VEVENT
DTSTART;TZID=America/New_York:20250629T113000
DTEND;TZID=America/New_York:20250629T133000
DTSTAMP:20260423T051729
CREATED:20200117T150420Z
LAST-MODIFIED:20210131T052925Z
UID:10001113-1751196600-1751203800@refugehouseofgod.org
SUMMARY:Sunday Morning Worship Experience
DESCRIPTION:Join us every Sunday morning for our worship experience…..where we teach and preach the word of God….standing on biblical principles for life and relationships. We participate in dynamic worship and we fellowship with our brothers and sisters creating an environment for God’s presence. \n 
URL:https://refugehouseofgod.org/event/sunday-morning-worship-experience/2025-06-29/
LOCATION:Refuge House of God\, 500-B Ingle Street\, Charlotte\, NC\, 28216\, United States
CATEGORIES:events and more
ATTACH;FMTTYPE=image/jpeg:https://refugehouseofgod.org/wp-content/uploads/2020/04/IMG_8911.jpg
ORGANIZER;CN="Refuge Admin":MAILTO:refugehouseofgod@msn.com
GEO:35.2647235;-80.8744248
X-APPLE-STRUCTURED-LOCATION;VALUE=URI;X-ADDRESS=Refuge House of God 500-B Ingle Street Charlotte NC 28216 United States;X-APPLE-RADIUS=500;X-TITLE=500-B Ingle Street:geo:-80.8744248,35.2647235
END:VEVENT
BEGIN:VEVENT
DTSTART;TZID=America/New_York:20250628T080000
DTEND;TZID=America/New_York:20250628T093000
DTSTAMP:20260423T051729
CREATED:20240713T020254Z
LAST-MODIFIED:20240713T020332Z
UID:10002217-1751097600-1751103000@refugehouseofgod.org
SUMMARY:4th Saturday Prayer
DESCRIPTION:Man ought to always pray and not faint!!! Come pray with us!
URL:https://refugehouseofgod.org/event/4th-saturday-prayer/2025-06-28/
LOCATION:Refuge House of God\, 500-B Ingle Street\, Charlotte\, NC\, 28216\, United States
CATEGORIES:events and more
ATTACH;FMTTYPE=image/jpeg:https://refugehouseofgod.org/wp-content/uploads/2024/07/4th-saturday-prayer-flyer.jpg
GEO:35.2647235;-80.8744248
X-APPLE-STRUCTURED-LOCATION;VALUE=URI;X-ADDRESS=Refuge House of God 500-B Ingle Street Charlotte NC 28216 United States;X-APPLE-RADIUS=500;X-TITLE=500-B Ingle Street:geo:-80.8744248,35.2647235
END:VEVENT
BEGIN:VEVENT
DTSTART;TZID=America/New_York:20250627T180000
DTEND;TZID=America/New_York:20250627T220000
DTSTAMP:20260423T051729
CREATED:20240713T020857Z
LAST-MODIFIED:20240713T020857Z
UID:10002277-1751047200-1751061600@refugehouseofgod.org
SUMMARY:Parent's Night Out - 4th Friday
DESCRIPTION:
URL:https://refugehouseofgod.org/event/parents-night-out-4th-friday/2025-06-27/
LOCATION:Refuge House of God\, 500-B Ingle Street\, Charlotte\, NC\, 28216\, United States
ATTACH;FMTTYPE=image/jpeg:https://refugehouseofgod.org/wp-content/uploads/2024/07/Parents-Night-Out-Refuge.jpeg
GEO:35.2647235;-80.8744248
X-APPLE-STRUCTURED-LOCATION;VALUE=URI;X-ADDRESS=Refuge House of God 500-B Ingle Street Charlotte NC 28216 United States;X-APPLE-RADIUS=500;X-TITLE=500-B Ingle Street:geo:-80.8744248,35.2647235
END:VEVENT
BEGIN:VEVENT
DTSTART;TZID=America/New_York:20250625T190000
DTEND;TZID=America/New_York:20250625T203000
DTSTAMP:20260423T051729
CREATED:20230707T201541Z
LAST-MODIFIED:20230707T201541Z
UID:10001781-1750878000-1750883400@refugehouseofgod.org
SUMMARY:Prayer & Strategies for Living (bible study)
DESCRIPTION:Come join us every Wednesday at 7 p.m. for prayer & strategies for living….
URL:https://refugehouseofgod.org/event/prayer-strategies-for-living-bible-study/2025-06-25/
LOCATION:Refuge House of God\, 500-B Ingle Street\, Charlotte\, NC\, 28216\, United States
CATEGORIES:events and more
GEO:35.2647235;-80.8744248
X-APPLE-STRUCTURED-LOCATION;VALUE=URI;X-ADDRESS=Refuge House of God 500-B Ingle Street Charlotte NC 28216 United States;X-APPLE-RADIUS=500;X-TITLE=500-B Ingle Street:geo:-80.8744248,35.2647235
END:VEVENT
BEGIN:VEVENT
DTSTART;TZID=America/New_York:20250622T113000
DTEND;TZID=America/New_York:20250622T133000
DTSTAMP:20260423T051729
CREATED:20200117T150420Z
LAST-MODIFIED:20210131T052925Z
UID:10001112-1750591800-1750599000@refugehouseofgod.org
SUMMARY:Sunday Morning Worship Experience
DESCRIPTION:Join us every Sunday morning for our worship experience…..where we teach and preach the word of God….standing on biblical principles for life and relationships. We participate in dynamic worship and we fellowship with our brothers and sisters creating an environment for God’s presence. \n 
URL:https://refugehouseofgod.org/event/sunday-morning-worship-experience/2025-06-22/
LOCATION:Refuge House of God\, 500-B Ingle Street\, Charlotte\, NC\, 28216\, United States
CATEGORIES:events and more
ATTACH;FMTTYPE=image/jpeg:https://refugehouseofgod.org/wp-content/uploads/2020/04/IMG_8911.jpg
ORGANIZER;CN="Refuge Admin":MAILTO:refugehouseofgod@msn.com
GEO:35.2647235;-80.8744248
X-APPLE-STRUCTURED-LOCATION;VALUE=URI;X-ADDRESS=Refuge House of God 500-B Ingle Street Charlotte NC 28216 United States;X-APPLE-RADIUS=500;X-TITLE=500-B Ingle Street:geo:-80.8744248,35.2647235
END:VEVENT
BEGIN:VEVENT
DTSTART;TZID=America/New_York:20250618T190000
DTEND;TZID=America/New_York:20250618T203000
DTSTAMP:20260423T051729
CREATED:20230707T201541Z
LAST-MODIFIED:20230707T201541Z
UID:10001780-1750273200-1750278600@refugehouseofgod.org
SUMMARY:Prayer & Strategies for Living (bible study)
DESCRIPTION:Come join us every Wednesday at 7 p.m. for prayer & strategies for living….
URL:https://refugehouseofgod.org/event/prayer-strategies-for-living-bible-study/2025-06-18/
LOCATION:Refuge House of God\, 500-B Ingle Street\, Charlotte\, NC\, 28216\, United States
CATEGORIES:events and more
GEO:35.2647235;-80.8744248
X-APPLE-STRUCTURED-LOCATION;VALUE=URI;X-ADDRESS=Refuge House of God 500-B Ingle Street Charlotte NC 28216 United States;X-APPLE-RADIUS=500;X-TITLE=500-B Ingle Street:geo:-80.8744248,35.2647235
END:VEVENT
BEGIN:VEVENT
DTSTART;TZID=America/New_York:20250615T113000
DTEND;TZID=America/New_York:20250615T133000
DTSTAMP:20260423T051729
CREATED:20200117T150420Z
LAST-MODIFIED:20210131T052925Z
UID:10001111-1749987000-1749994200@refugehouseofgod.org
SUMMARY:Sunday Morning Worship Experience
DESCRIPTION:Join us every Sunday morning for our worship experience…..where we teach and preach the word of God….standing on biblical principles for life and relationships. We participate in dynamic worship and we fellowship with our brothers and sisters creating an environment for God’s presence. \n 
URL:https://refugehouseofgod.org/event/sunday-morning-worship-experience/2025-06-15/
LOCATION:Refuge House of God\, 500-B Ingle Street\, Charlotte\, NC\, 28216\, United States
CATEGORIES:events and more
ATTACH;FMTTYPE=image/jpeg:https://refugehouseofgod.org/wp-content/uploads/2020/04/IMG_8911.jpg
ORGANIZER;CN="Refuge Admin":MAILTO:refugehouseofgod@msn.com
GEO:35.2647235;-80.8744248
X-APPLE-STRUCTURED-LOCATION;VALUE=URI;X-ADDRESS=Refuge House of God 500-B Ingle Street Charlotte NC 28216 United States;X-APPLE-RADIUS=500;X-TITLE=500-B Ingle Street:geo:-80.8744248,35.2647235
END:VEVENT
BEGIN:VEVENT
DTSTART;TZID=America/New_York:20250611T190000
DTEND;TZID=America/New_York:20250611T203000
DTSTAMP:20260423T051729
CREATED:20230707T201541Z
LAST-MODIFIED:20230707T201541Z
UID:10001779-1749668400-1749673800@refugehouseofgod.org
SUMMARY:Prayer & Strategies for Living (bible study)
DESCRIPTION:Come join us every Wednesday at 7 p.m. for prayer & strategies for living….
URL:https://refugehouseofgod.org/event/prayer-strategies-for-living-bible-study/2025-06-11/
LOCATION:Refuge House of God\, 500-B Ingle Street\, Charlotte\, NC\, 28216\, United States
CATEGORIES:events and more
GEO:35.2647235;-80.8744248
X-APPLE-STRUCTURED-LOCATION;VALUE=URI;X-ADDRESS=Refuge House of God 500-B Ingle Street Charlotte NC 28216 United States;X-APPLE-RADIUS=500;X-TITLE=500-B Ingle Street:geo:-80.8744248,35.2647235
END:VEVENT
BEGIN:VEVENT
DTSTART;TZID=America/New_York:20250608T113000
DTEND;TZID=America/New_York:20250608T133000
DTSTAMP:20260423T051729
CREATED:20200117T150420Z
LAST-MODIFIED:20210131T052925Z
UID:10001110-1749382200-1749389400@refugehouseofgod.org
SUMMARY:Sunday Morning Worship Experience
DESCRIPTION:Join us every Sunday morning for our worship experience…..where we teach and preach the word of God….standing on biblical principles for life and relationships. We participate in dynamic worship and we fellowship with our brothers and sisters creating an environment for God’s presence. \n 
URL:https://refugehouseofgod.org/event/sunday-morning-worship-experience/2025-06-08/
LOCATION:Refuge House of God\, 500-B Ingle Street\, Charlotte\, NC\, 28216\, United States
CATEGORIES:events and more
ATTACH;FMTTYPE=image/jpeg:https://refugehouseofgod.org/wp-content/uploads/2020/04/IMG_8911.jpg
ORGANIZER;CN="Refuge Admin":MAILTO:refugehouseofgod@msn.com
GEO:35.2647235;-80.8744248
X-APPLE-STRUCTURED-LOCATION;VALUE=URI;X-ADDRESS=Refuge House of God 500-B Ingle Street Charlotte NC 28216 United States;X-APPLE-RADIUS=500;X-TITLE=500-B Ingle Street:geo:-80.8744248,35.2647235
END:VEVENT
BEGIN:VEVENT
DTSTART;TZID=America/New_York:20250604T190000
DTEND;TZID=America/New_York:20250604T203000
DTSTAMP:20260423T051729
CREATED:20230707T201541Z
LAST-MODIFIED:20230707T201541Z
UID:10001778-1749063600-1749069000@refugehouseofgod.org
SUMMARY:Prayer & Strategies for Living (bible study)
DESCRIPTION:Come join us every Wednesday at 7 p.m. for prayer & strategies for living….
URL:https://refugehouseofgod.org/event/prayer-strategies-for-living-bible-study/2025-06-04/
LOCATION:Refuge House of God\, 500-B Ingle Street\, Charlotte\, NC\, 28216\, United States
CATEGORIES:events and more
GEO:35.2647235;-80.8744248
X-APPLE-STRUCTURED-LOCATION;VALUE=URI;X-ADDRESS=Refuge House of God 500-B Ingle Street Charlotte NC 28216 United States;X-APPLE-RADIUS=500;X-TITLE=500-B Ingle Street:geo:-80.8744248,35.2647235
END:VEVENT
BEGIN:VEVENT
DTSTART;TZID=America/New_York:20250601T113000
DTEND;TZID=America/New_York:20250601T133000
DTSTAMP:20260423T051729
CREATED:20200117T150420Z
LAST-MODIFIED:20210131T052925Z
UID:10001109-1748777400-1748784600@refugehouseofgod.org
SUMMARY:Sunday Morning Worship Experience
DESCRIPTION:Join us every Sunday morning for our worship experience…..where we teach and preach the word of God….standing on biblical principles for life and relationships. We participate in dynamic worship and we fellowship with our brothers and sisters creating an environment for God’s presence. \n 
URL:https://refugehouseofgod.org/event/sunday-morning-worship-experience/2025-06-01/
LOCATION:Refuge House of God\, 500-B Ingle Street\, Charlotte\, NC\, 28216\, United States
CATEGORIES:events and more
ATTACH;FMTTYPE=image/jpeg:https://refugehouseofgod.org/wp-content/uploads/2020/04/IMG_8911.jpg
ORGANIZER;CN="Refuge Admin":MAILTO:refugehouseofgod@msn.com
GEO:35.2647235;-80.8744248
X-APPLE-STRUCTURED-LOCATION;VALUE=URI;X-ADDRESS=Refuge House of God 500-B Ingle Street Charlotte NC 28216 United States;X-APPLE-RADIUS=500;X-TITLE=500-B Ingle Street:geo:-80.8744248,35.2647235
END:VEVENT
BEGIN:VEVENT
DTSTART;TZID=America/New_York:20250528T190000
DTEND;TZID=America/New_York:20250528T203000
DTSTAMP:20260423T051729
CREATED:20230707T201541Z
LAST-MODIFIED:20230707T201541Z
UID:10001777-1748458800-1748464200@refugehouseofgod.org
SUMMARY:Prayer & Strategies for Living (bible study)
DESCRIPTION:Come join us every Wednesday at 7 p.m. for prayer & strategies for living….
URL:https://refugehouseofgod.org/event/prayer-strategies-for-living-bible-study/2025-05-28/
LOCATION:Refuge House of God\, 500-B Ingle Street\, Charlotte\, NC\, 28216\, United States
CATEGORIES:events and more
GEO:35.2647235;-80.8744248
X-APPLE-STRUCTURED-LOCATION;VALUE=URI;X-ADDRESS=Refuge House of God 500-B Ingle Street Charlotte NC 28216 United States;X-APPLE-RADIUS=500;X-TITLE=500-B Ingle Street:geo:-80.8744248,35.2647235
END:VEVENT
BEGIN:VEVENT
DTSTART;TZID=America/New_York:20250525T113000
DTEND;TZID=America/New_York:20250525T133000
DTSTAMP:20260423T051729
CREATED:20200117T150420Z
LAST-MODIFIED:20210131T052925Z
UID:10001108-1748172600-1748179800@refugehouseofgod.org
SUMMARY:Sunday Morning Worship Experience
DESCRIPTION:Join us every Sunday morning for our worship experience…..where we teach and preach the word of God….standing on biblical principles for life and relationships. We participate in dynamic worship and we fellowship with our brothers and sisters creating an environment for God’s presence. \n 
URL:https://refugehouseofgod.org/event/sunday-morning-worship-experience/2025-05-25/
LOCATION:Refuge House of God\, 500-B Ingle Street\, Charlotte\, NC\, 28216\, United States
CATEGORIES:events and more
ATTACH;FMTTYPE=image/jpeg:https://refugehouseofgod.org/wp-content/uploads/2020/04/IMG_8911.jpg
ORGANIZER;CN="Refuge Admin":MAILTO:refugehouseofgod@msn.com
GEO:35.2647235;-80.8744248
X-APPLE-STRUCTURED-LOCATION;VALUE=URI;X-ADDRESS=Refuge House of God 500-B Ingle Street Charlotte NC 28216 United States;X-APPLE-RADIUS=500;X-TITLE=500-B Ingle Street:geo:-80.8744248,35.2647235
END:VEVENT
BEGIN:VEVENT
DTSTART;TZID=America/New_York:20250524T080000
DTEND;TZID=America/New_York:20250524T093000
DTSTAMP:20260423T051729
CREATED:20240713T020254Z
LAST-MODIFIED:20240713T020332Z
UID:10002216-1748073600-1748079000@refugehouseofgod.org
SUMMARY:4th Saturday Prayer
DESCRIPTION:Man ought to always pray and not faint!!! Come pray with us!
URL:https://refugehouseofgod.org/event/4th-saturday-prayer/2025-05-24/
LOCATION:Refuge House of God\, 500-B Ingle Street\, Charlotte\, NC\, 28216\, United States
CATEGORIES:events and more
ATTACH;FMTTYPE=image/jpeg:https://refugehouseofgod.org/wp-content/uploads/2024/07/4th-saturday-prayer-flyer.jpg
GEO:35.2647235;-80.8744248
X-APPLE-STRUCTURED-LOCATION;VALUE=URI;X-ADDRESS=Refuge House of God 500-B Ingle Street Charlotte NC 28216 United States;X-APPLE-RADIUS=500;X-TITLE=500-B Ingle Street:geo:-80.8744248,35.2647235
END:VEVENT
BEGIN:VEVENT
DTSTART;TZID=America/New_York:20250523T180000
DTEND;TZID=America/New_York:20250523T220000
DTSTAMP:20260423T051729
CREATED:20240713T020857Z
LAST-MODIFIED:20240713T020857Z
UID:10002276-1748023200-1748037600@refugehouseofgod.org
SUMMARY:Parent's Night Out - 4th Friday
DESCRIPTION:
URL:https://refugehouseofgod.org/event/parents-night-out-4th-friday/2025-05-23/
LOCATION:Refuge House of God\, 500-B Ingle Street\, Charlotte\, NC\, 28216\, United States
ATTACH;FMTTYPE=image/jpeg:https://refugehouseofgod.org/wp-content/uploads/2024/07/Parents-Night-Out-Refuge.jpeg
GEO:35.2647235;-80.8744248
X-APPLE-STRUCTURED-LOCATION;VALUE=URI;X-ADDRESS=Refuge House of God 500-B Ingle Street Charlotte NC 28216 United States;X-APPLE-RADIUS=500;X-TITLE=500-B Ingle Street:geo:-80.8744248,35.2647235
END:VEVENT
BEGIN:VEVENT
DTSTART;TZID=America/New_York:20250521T190000
DTEND;TZID=America/New_York:20250521T203000
DTSTAMP:20260423T051729
CREATED:20230707T201541Z
LAST-MODIFIED:20230707T201541Z
UID:10001776-1747854000-1747859400@refugehouseofgod.org
SUMMARY:Prayer & Strategies for Living (bible study)
DESCRIPTION:Come join us every Wednesday at 7 p.m. for prayer & strategies for living….
URL:https://refugehouseofgod.org/event/prayer-strategies-for-living-bible-study/2025-05-21/
LOCATION:Refuge House of God\, 500-B Ingle Street\, Charlotte\, NC\, 28216\, United States
CATEGORIES:events and more
GEO:35.2647235;-80.8744248
X-APPLE-STRUCTURED-LOCATION;VALUE=URI;X-ADDRESS=Refuge House of God 500-B Ingle Street Charlotte NC 28216 United States;X-APPLE-RADIUS=500;X-TITLE=500-B Ingle Street:geo:-80.8744248,35.2647235
END:VEVENT
BEGIN:VEVENT
DTSTART;TZID=America/New_York:20250518T113000
DTEND;TZID=America/New_York:20250518T133000
DTSTAMP:20260423T051729
CREATED:20200117T150420Z
LAST-MODIFIED:20210131T052925Z
UID:10001107-1747567800-1747575000@refugehouseofgod.org
SUMMARY:Sunday Morning Worship Experience
DESCRIPTION:Join us every Sunday morning for our worship experience…..where we teach and preach the word of God….standing on biblical principles for life and relationships. We participate in dynamic worship and we fellowship with our brothers and sisters creating an environment for God’s presence. \n 
URL:https://refugehouseofgod.org/event/sunday-morning-worship-experience/2025-05-18/
LOCATION:Refuge House of God\, 500-B Ingle Street\, Charlotte\, NC\, 28216\, United States
CATEGORIES:events and more
ATTACH;FMTTYPE=image/jpeg:https://refugehouseofgod.org/wp-content/uploads/2020/04/IMG_8911.jpg
ORGANIZER;CN="Refuge Admin":MAILTO:refugehouseofgod@msn.com
GEO:35.2647235;-80.8744248
X-APPLE-STRUCTURED-LOCATION;VALUE=URI;X-ADDRESS=Refuge House of God 500-B Ingle Street Charlotte NC 28216 United States;X-APPLE-RADIUS=500;X-TITLE=500-B Ingle Street:geo:-80.8744248,35.2647235
END:VEVENT
BEGIN:VEVENT
DTSTART;TZID=America/New_York:20250514T190000
DTEND;TZID=America/New_York:20250514T203000
DTSTAMP:20260423T051729
CREATED:20230707T201541Z
LAST-MODIFIED:20230707T201541Z
UID:10001775-1747249200-1747254600@refugehouseofgod.org
SUMMARY:Prayer & Strategies for Living (bible study)
DESCRIPTION:Come join us every Wednesday at 7 p.m. for prayer & strategies for living….
URL:https://refugehouseofgod.org/event/prayer-strategies-for-living-bible-study/2025-05-14/
LOCATION:Refuge House of God\, 500-B Ingle Street\, Charlotte\, NC\, 28216\, United States
CATEGORIES:events and more
GEO:35.2647235;-80.8744248
X-APPLE-STRUCTURED-LOCATION;VALUE=URI;X-ADDRESS=Refuge House of God 500-B Ingle Street Charlotte NC 28216 United States;X-APPLE-RADIUS=500;X-TITLE=500-B Ingle Street:geo:-80.8744248,35.2647235
END:VEVENT
END:VCALENDAR