BEGIN:VCALENDAR
VERSION:2.0
PRODID:-//Refuge House of God | Charlotte NC - ECPv6.15.17//NONSGML v1.0//EN
CALSCALE:GREGORIAN
METHOD:PUBLISH
X-WR-CALNAME:Refuge House of God | Charlotte NC
X-ORIGINAL-URL:https://refugehouseofgod.org
X-WR-CALDESC:Events for Refuge House of God | Charlotte NC
REFRESH-INTERVAL;VALUE=DURATION:PT1H
X-Robots-Tag:noindex
X-PUBLISHED-TTL:PT1H
BEGIN:VTIMEZONE
TZID:America/New_York
BEGIN:DAYLIGHT
TZOFFSETFROM:-0500
TZOFFSETTO:-0400
TZNAME:EDT
DTSTART:20270314T070000
END:DAYLIGHT
BEGIN:STANDARD
TZOFFSETFROM:-0400
TZOFFSETTO:-0500
TZNAME:EST
DTSTART:20271107T060000
END:STANDARD
BEGIN:DAYLIGHT
TZOFFSETFROM:-0500
TZOFFSETTO:-0400
TZNAME:EDT
DTSTART:20280312T070000
END:DAYLIGHT
BEGIN:STANDARD
TZOFFSETFROM:-0400
TZOFFSETTO:-0500
TZNAME:EST
DTSTART:20281105T060000
END:STANDARD
BEGIN:DAYLIGHT
TZOFFSETFROM:-0500
TZOFFSETTO:-0400
TZNAME:EDT
DTSTART:20290311T070000
END:DAYLIGHT
BEGIN:STANDARD
TZOFFSETFROM:-0400
TZOFFSETTO:-0500
TZNAME:EST
DTSTART:20291104T060000
END:STANDARD
BEGIN:DAYLIGHT
TZOFFSETFROM:-0500
TZOFFSETTO:-0400
TZNAME:EDT
DTSTART:20300310T070000
END:DAYLIGHT
BEGIN:STANDARD
TZOFFSETFROM:-0400
TZOFFSETTO:-0500
TZNAME:EST
DTSTART:20301103T060000
END:STANDARD
END:VTIMEZONE
BEGIN:VEVENT
DTSTART;TZID=America/New_York:20280623T180000
DTEND;TZID=America/New_York:20280623T220000
DTSTAMP:20260424T204108
CREATED:20240713T020857Z
LAST-MODIFIED:20240713T020857Z
UID:10002313-1845396000-1845410400@refugehouseofgod.org
SUMMARY:Parent's Night Out - 4th Friday
DESCRIPTION:
URL:https://refugehouseofgod.org/event/parents-night-out-4th-friday/2028-06-23/
LOCATION:Refuge House of God\, 500-B Ingle Street\, Charlotte\, NC\, 28216\, United States
ATTACH;FMTTYPE=image/jpeg:https://refugehouseofgod.org/wp-content/uploads/2024/07/Parents-Night-Out-Refuge.jpeg
GEO:35.2647235;-80.8744248
X-APPLE-STRUCTURED-LOCATION;VALUE=URI;X-ADDRESS=Refuge House of God 500-B Ingle Street Charlotte NC 28216 United States;X-APPLE-RADIUS=500;X-TITLE=500-B Ingle Street:geo:-80.8744248,35.2647235
END:VEVENT
BEGIN:VEVENT
DTSTART;TZID=America/New_York:20280624T080000
DTEND;TZID=America/New_York:20280624T093000
DTSTAMP:20260424T204108
CREATED:20240713T020254Z
LAST-MODIFIED:20240713T020332Z
UID:10002253-1845446400-1845451800@refugehouseofgod.org
SUMMARY:4th Saturday Prayer
DESCRIPTION:Man ought to always pray and not faint!!! Come pray with us!
URL:https://refugehouseofgod.org/event/4th-saturday-prayer/2028-06-24/
LOCATION:Refuge House of God\, 500-B Ingle Street\, Charlotte\, NC\, 28216\, United States
CATEGORIES:events and more
ATTACH;FMTTYPE=image/jpeg:https://refugehouseofgod.org/wp-content/uploads/2024/07/4th-saturday-prayer-flyer.jpg
GEO:35.2647235;-80.8744248
X-APPLE-STRUCTURED-LOCATION;VALUE=URI;X-ADDRESS=Refuge House of God 500-B Ingle Street Charlotte NC 28216 United States;X-APPLE-RADIUS=500;X-TITLE=500-B Ingle Street:geo:-80.8744248,35.2647235
END:VEVENT
BEGIN:VEVENT
DTSTART;TZID=America/New_York:20280628T190000
DTEND;TZID=America/New_York:20280628T203000
DTSTAMP:20260424T204108
CREATED:20230707T201541Z
LAST-MODIFIED:20230707T201541Z
UID:10001938-1845831600-1845837000@refugehouseofgod.org
SUMMARY:Prayer & Strategies for Living (bible study)
DESCRIPTION:Come join us every Wednesday at 7 p.m. for prayer & strategies for living….
URL:https://refugehouseofgod.org/event/prayer-strategies-for-living-bible-study/2028-06-28/
LOCATION:Refuge House of God\, 500-B Ingle Street\, Charlotte\, NC\, 28216\, United States
CATEGORIES:events and more
GEO:35.2647235;-80.8744248
X-APPLE-STRUCTURED-LOCATION;VALUE=URI;X-ADDRESS=Refuge House of God 500-B Ingle Street Charlotte NC 28216 United States;X-APPLE-RADIUS=500;X-TITLE=500-B Ingle Street:geo:-80.8744248,35.2647235
END:VEVENT
BEGIN:VEVENT
DTSTART;TZID=America/New_York:20280705T190000
DTEND;TZID=America/New_York:20280705T203000
DTSTAMP:20260424T204108
CREATED:20230707T201541Z
LAST-MODIFIED:20230707T201541Z
UID:10001939-1846436400-1846441800@refugehouseofgod.org
SUMMARY:Prayer & Strategies for Living (bible study)
DESCRIPTION:Come join us every Wednesday at 7 p.m. for prayer & strategies for living….
URL:https://refugehouseofgod.org/event/prayer-strategies-for-living-bible-study/2028-07-05/
LOCATION:Refuge House of God\, 500-B Ingle Street\, Charlotte\, NC\, 28216\, United States
CATEGORIES:events and more
GEO:35.2647235;-80.8744248
X-APPLE-STRUCTURED-LOCATION;VALUE=URI;X-ADDRESS=Refuge House of God 500-B Ingle Street Charlotte NC 28216 United States;X-APPLE-RADIUS=500;X-TITLE=500-B Ingle Street:geo:-80.8744248,35.2647235
END:VEVENT
BEGIN:VEVENT
DTSTART;TZID=America/New_York:20280722T080000
DTEND;TZID=America/New_York:20280722T093000
DTSTAMP:20260424T204108
CREATED:20240713T020254Z
LAST-MODIFIED:20240713T020332Z
UID:10002254-1847865600-1847871000@refugehouseofgod.org
SUMMARY:4th Saturday Prayer
DESCRIPTION:Man ought to always pray and not faint!!! Come pray with us!
URL:https://refugehouseofgod.org/event/4th-saturday-prayer/2028-07-22/
LOCATION:Refuge House of God\, 500-B Ingle Street\, Charlotte\, NC\, 28216\, United States
CATEGORIES:events and more
ATTACH;FMTTYPE=image/jpeg:https://refugehouseofgod.org/wp-content/uploads/2024/07/4th-saturday-prayer-flyer.jpg
GEO:35.2647235;-80.8744248
X-APPLE-STRUCTURED-LOCATION;VALUE=URI;X-ADDRESS=Refuge House of God 500-B Ingle Street Charlotte NC 28216 United States;X-APPLE-RADIUS=500;X-TITLE=500-B Ingle Street:geo:-80.8744248,35.2647235
END:VEVENT
BEGIN:VEVENT
DTSTART;TZID=America/New_York:20280728T180000
DTEND;TZID=America/New_York:20280728T220000
DTSTAMP:20260424T204108
CREATED:20240713T020857Z
LAST-MODIFIED:20240713T020857Z
UID:10002314-1848420000-1848434400@refugehouseofgod.org
SUMMARY:Parent's Night Out - 4th Friday
DESCRIPTION:
URL:https://refugehouseofgod.org/event/parents-night-out-4th-friday/2028-07-28/
LOCATION:Refuge House of God\, 500-B Ingle Street\, Charlotte\, NC\, 28216\, United States
ATTACH;FMTTYPE=image/jpeg:https://refugehouseofgod.org/wp-content/uploads/2024/07/Parents-Night-Out-Refuge.jpeg
GEO:35.2647235;-80.8744248
X-APPLE-STRUCTURED-LOCATION;VALUE=URI;X-ADDRESS=Refuge House of God 500-B Ingle Street Charlotte NC 28216 United States;X-APPLE-RADIUS=500;X-TITLE=500-B Ingle Street:geo:-80.8744248,35.2647235
END:VEVENT
BEGIN:VEVENT
DTSTART;TZID=America/New_York:20280825T180000
DTEND;TZID=America/New_York:20280825T220000
DTSTAMP:20260424T204108
CREATED:20240713T020857Z
LAST-MODIFIED:20240713T020857Z
UID:10002315-1850839200-1850853600@refugehouseofgod.org
SUMMARY:Parent's Night Out - 4th Friday
DESCRIPTION:
URL:https://refugehouseofgod.org/event/parents-night-out-4th-friday/2028-08-25/
LOCATION:Refuge House of God\, 500-B Ingle Street\, Charlotte\, NC\, 28216\, United States
ATTACH;FMTTYPE=image/jpeg:https://refugehouseofgod.org/wp-content/uploads/2024/07/Parents-Night-Out-Refuge.jpeg
GEO:35.2647235;-80.8744248
X-APPLE-STRUCTURED-LOCATION;VALUE=URI;X-ADDRESS=Refuge House of God 500-B Ingle Street Charlotte NC 28216 United States;X-APPLE-RADIUS=500;X-TITLE=500-B Ingle Street:geo:-80.8744248,35.2647235
END:VEVENT
BEGIN:VEVENT
DTSTART;TZID=America/New_York:20280826T080000
DTEND;TZID=America/New_York:20280826T093000
DTSTAMP:20260424T204108
CREATED:20240713T020254Z
LAST-MODIFIED:20240713T020332Z
UID:10002255-1850889600-1850895000@refugehouseofgod.org
SUMMARY:4th Saturday Prayer
DESCRIPTION:Man ought to always pray and not faint!!! Come pray with us!
URL:https://refugehouseofgod.org/event/4th-saturday-prayer/2028-08-26/
LOCATION:Refuge House of God\, 500-B Ingle Street\, Charlotte\, NC\, 28216\, United States
CATEGORIES:events and more
ATTACH;FMTTYPE=image/jpeg:https://refugehouseofgod.org/wp-content/uploads/2024/07/4th-saturday-prayer-flyer.jpg
GEO:35.2647235;-80.8744248
X-APPLE-STRUCTURED-LOCATION;VALUE=URI;X-ADDRESS=Refuge House of God 500-B Ingle Street Charlotte NC 28216 United States;X-APPLE-RADIUS=500;X-TITLE=500-B Ingle Street:geo:-80.8744248,35.2647235
END:VEVENT
BEGIN:VEVENT
DTSTART;TZID=America/New_York:20280922T180000
DTEND;TZID=America/New_York:20280922T220000
DTSTAMP:20260424T204108
CREATED:20240713T020857Z
LAST-MODIFIED:20240713T020857Z
UID:10002316-1853258400-1853272800@refugehouseofgod.org
SUMMARY:Parent's Night Out - 4th Friday
DESCRIPTION:
URL:https://refugehouseofgod.org/event/parents-night-out-4th-friday/2028-09-22/
LOCATION:Refuge House of God\, 500-B Ingle Street\, Charlotte\, NC\, 28216\, United States
ATTACH;FMTTYPE=image/jpeg:https://refugehouseofgod.org/wp-content/uploads/2024/07/Parents-Night-Out-Refuge.jpeg
GEO:35.2647235;-80.8744248
X-APPLE-STRUCTURED-LOCATION;VALUE=URI;X-ADDRESS=Refuge House of God 500-B Ingle Street Charlotte NC 28216 United States;X-APPLE-RADIUS=500;X-TITLE=500-B Ingle Street:geo:-80.8744248,35.2647235
END:VEVENT
BEGIN:VEVENT
DTSTART;TZID=America/New_York:20280923T080000
DTEND;TZID=America/New_York:20280923T093000
DTSTAMP:20260424T204108
CREATED:20240713T020254Z
LAST-MODIFIED:20240713T020332Z
UID:10002256-1853308800-1853314200@refugehouseofgod.org
SUMMARY:4th Saturday Prayer
DESCRIPTION:Man ought to always pray and not faint!!! Come pray with us!
URL:https://refugehouseofgod.org/event/4th-saturday-prayer/2028-09-23/
LOCATION:Refuge House of God\, 500-B Ingle Street\, Charlotte\, NC\, 28216\, United States
CATEGORIES:events and more
ATTACH;FMTTYPE=image/jpeg:https://refugehouseofgod.org/wp-content/uploads/2024/07/4th-saturday-prayer-flyer.jpg
GEO:35.2647235;-80.8744248
X-APPLE-STRUCTURED-LOCATION;VALUE=URI;X-ADDRESS=Refuge House of God 500-B Ingle Street Charlotte NC 28216 United States;X-APPLE-RADIUS=500;X-TITLE=500-B Ingle Street:geo:-80.8744248,35.2647235
END:VEVENT
BEGIN:VEVENT
DTSTART;TZID=America/New_York:20281027T180000
DTEND;TZID=America/New_York:20281027T220000
DTSTAMP:20260424T204108
CREATED:20240713T020857Z
LAST-MODIFIED:20240713T020857Z
UID:10002317-1856282400-1856296800@refugehouseofgod.org
SUMMARY:Parent's Night Out - 4th Friday
DESCRIPTION:
URL:https://refugehouseofgod.org/event/parents-night-out-4th-friday/2028-10-27/
LOCATION:Refuge House of God\, 500-B Ingle Street\, Charlotte\, NC\, 28216\, United States
ATTACH;FMTTYPE=image/jpeg:https://refugehouseofgod.org/wp-content/uploads/2024/07/Parents-Night-Out-Refuge.jpeg
GEO:35.2647235;-80.8744248
X-APPLE-STRUCTURED-LOCATION;VALUE=URI;X-ADDRESS=Refuge House of God 500-B Ingle Street Charlotte NC 28216 United States;X-APPLE-RADIUS=500;X-TITLE=500-B Ingle Street:geo:-80.8744248,35.2647235
END:VEVENT
BEGIN:VEVENT
DTSTART;TZID=America/New_York:20281028T080000
DTEND;TZID=America/New_York:20281028T093000
DTSTAMP:20260424T204108
CREATED:20240713T020254Z
LAST-MODIFIED:20240713T020332Z
UID:10002257-1856332800-1856338200@refugehouseofgod.org
SUMMARY:4th Saturday Prayer
DESCRIPTION:Man ought to always pray and not faint!!! Come pray with us!
URL:https://refugehouseofgod.org/event/4th-saturday-prayer/2028-10-28/
LOCATION:Refuge House of God\, 500-B Ingle Street\, Charlotte\, NC\, 28216\, United States
CATEGORIES:events and more
ATTACH;FMTTYPE=image/jpeg:https://refugehouseofgod.org/wp-content/uploads/2024/07/4th-saturday-prayer-flyer.jpg
GEO:35.2647235;-80.8744248
X-APPLE-STRUCTURED-LOCATION;VALUE=URI;X-ADDRESS=Refuge House of God 500-B Ingle Street Charlotte NC 28216 United States;X-APPLE-RADIUS=500;X-TITLE=500-B Ingle Street:geo:-80.8744248,35.2647235
END:VEVENT
BEGIN:VEVENT
DTSTART;TZID=America/New_York:20281124T180000
DTEND;TZID=America/New_York:20281124T220000
DTSTAMP:20260424T204108
CREATED:20240713T020857Z
LAST-MODIFIED:20240713T020857Z
UID:10002318-1858701600-1858716000@refugehouseofgod.org
SUMMARY:Parent's Night Out - 4th Friday
DESCRIPTION:
URL:https://refugehouseofgod.org/event/parents-night-out-4th-friday/2028-11-24/
LOCATION:Refuge House of God\, 500-B Ingle Street\, Charlotte\, NC\, 28216\, United States
ATTACH;FMTTYPE=image/jpeg:https://refugehouseofgod.org/wp-content/uploads/2024/07/Parents-Night-Out-Refuge.jpeg
GEO:35.2647235;-80.8744248
X-APPLE-STRUCTURED-LOCATION;VALUE=URI;X-ADDRESS=Refuge House of God 500-B Ingle Street Charlotte NC 28216 United States;X-APPLE-RADIUS=500;X-TITLE=500-B Ingle Street:geo:-80.8744248,35.2647235
END:VEVENT
BEGIN:VEVENT
DTSTART;TZID=America/New_York:20281125T080000
DTEND;TZID=America/New_York:20281125T093000
DTSTAMP:20260424T204108
CREATED:20240713T020254Z
LAST-MODIFIED:20240713T020332Z
UID:10002258-1858752000-1858757400@refugehouseofgod.org
SUMMARY:4th Saturday Prayer
DESCRIPTION:Man ought to always pray and not faint!!! Come pray with us!
URL:https://refugehouseofgod.org/event/4th-saturday-prayer/2028-11-25/
LOCATION:Refuge House of God\, 500-B Ingle Street\, Charlotte\, NC\, 28216\, United States
CATEGORIES:events and more
ATTACH;FMTTYPE=image/jpeg:https://refugehouseofgod.org/wp-content/uploads/2024/07/4th-saturday-prayer-flyer.jpg
GEO:35.2647235;-80.8744248
X-APPLE-STRUCTURED-LOCATION;VALUE=URI;X-ADDRESS=Refuge House of God 500-B Ingle Street Charlotte NC 28216 United States;X-APPLE-RADIUS=500;X-TITLE=500-B Ingle Street:geo:-80.8744248,35.2647235
END:VEVENT
BEGIN:VEVENT
DTSTART;TZID=America/New_York:20281222T180000
DTEND;TZID=America/New_York:20281222T220000
DTSTAMP:20260424T204108
CREATED:20240713T020857Z
LAST-MODIFIED:20240713T020857Z
UID:10002319-1861120800-1861135200@refugehouseofgod.org
SUMMARY:Parent's Night Out - 4th Friday
DESCRIPTION:
URL:https://refugehouseofgod.org/event/parents-night-out-4th-friday/2028-12-22/
LOCATION:Refuge House of God\, 500-B Ingle Street\, Charlotte\, NC\, 28216\, United States
ATTACH;FMTTYPE=image/jpeg:https://refugehouseofgod.org/wp-content/uploads/2024/07/Parents-Night-Out-Refuge.jpeg
GEO:35.2647235;-80.8744248
X-APPLE-STRUCTURED-LOCATION;VALUE=URI;X-ADDRESS=Refuge House of God 500-B Ingle Street Charlotte NC 28216 United States;X-APPLE-RADIUS=500;X-TITLE=500-B Ingle Street:geo:-80.8744248,35.2647235
END:VEVENT
BEGIN:VEVENT
DTSTART;TZID=America/New_York:20281223T080000
DTEND;TZID=America/New_York:20281223T093000
DTSTAMP:20260424T204108
CREATED:20240713T020254Z
LAST-MODIFIED:20240713T020332Z
UID:10002259-1861171200-1861176600@refugehouseofgod.org
SUMMARY:4th Saturday Prayer
DESCRIPTION:Man ought to always pray and not faint!!! Come pray with us!
URL:https://refugehouseofgod.org/event/4th-saturday-prayer/2028-12-23/
LOCATION:Refuge House of God\, 500-B Ingle Street\, Charlotte\, NC\, 28216\, United States
CATEGORIES:events and more
ATTACH;FMTTYPE=image/jpeg:https://refugehouseofgod.org/wp-content/uploads/2024/07/4th-saturday-prayer-flyer.jpg
GEO:35.2647235;-80.8744248
X-APPLE-STRUCTURED-LOCATION;VALUE=URI;X-ADDRESS=Refuge House of God 500-B Ingle Street Charlotte NC 28216 United States;X-APPLE-RADIUS=500;X-TITLE=500-B Ingle Street:geo:-80.8744248,35.2647235
END:VEVENT
BEGIN:VEVENT
DTSTART;TZID=America/New_York:20290126T180000
DTEND;TZID=America/New_York:20290126T220000
DTSTAMP:20260424T204108
CREATED:20240713T020857Z
LAST-MODIFIED:20240713T020857Z
UID:10002320-1864144800-1864159200@refugehouseofgod.org
SUMMARY:Parent's Night Out - 4th Friday
DESCRIPTION:
URL:https://refugehouseofgod.org/event/parents-night-out-4th-friday/2029-01-26/
LOCATION:Refuge House of God\, 500-B Ingle Street\, Charlotte\, NC\, 28216\, United States
ATTACH;FMTTYPE=image/jpeg:https://refugehouseofgod.org/wp-content/uploads/2024/07/Parents-Night-Out-Refuge.jpeg
GEO:35.2647235;-80.8744248
X-APPLE-STRUCTURED-LOCATION;VALUE=URI;X-ADDRESS=Refuge House of God 500-B Ingle Street Charlotte NC 28216 United States;X-APPLE-RADIUS=500;X-TITLE=500-B Ingle Street:geo:-80.8744248,35.2647235
END:VEVENT
BEGIN:VEVENT
DTSTART;TZID=America/New_York:20290127T080000
DTEND;TZID=America/New_York:20290127T093000
DTSTAMP:20260424T204108
CREATED:20240713T020254Z
LAST-MODIFIED:20240713T020332Z
UID:10002260-1864195200-1864200600@refugehouseofgod.org
SUMMARY:4th Saturday Prayer
DESCRIPTION:Man ought to always pray and not faint!!! Come pray with us!
URL:https://refugehouseofgod.org/event/4th-saturday-prayer/2029-01-27/
LOCATION:Refuge House of God\, 500-B Ingle Street\, Charlotte\, NC\, 28216\, United States
CATEGORIES:events and more
ATTACH;FMTTYPE=image/jpeg:https://refugehouseofgod.org/wp-content/uploads/2024/07/4th-saturday-prayer-flyer.jpg
GEO:35.2647235;-80.8744248
X-APPLE-STRUCTURED-LOCATION;VALUE=URI;X-ADDRESS=Refuge House of God 500-B Ingle Street Charlotte NC 28216 United States;X-APPLE-RADIUS=500;X-TITLE=500-B Ingle Street:geo:-80.8744248,35.2647235
END:VEVENT
BEGIN:VEVENT
DTSTART;TZID=America/New_York:20290223T180000
DTEND;TZID=America/New_York:20290223T220000
DTSTAMP:20260424T204108
CREATED:20240713T020857Z
LAST-MODIFIED:20240713T020857Z
UID:10002321-1866564000-1866578400@refugehouseofgod.org
SUMMARY:Parent's Night Out - 4th Friday
DESCRIPTION:
URL:https://refugehouseofgod.org/event/parents-night-out-4th-friday/2029-02-23/
LOCATION:Refuge House of God\, 500-B Ingle Street\, Charlotte\, NC\, 28216\, United States
ATTACH;FMTTYPE=image/jpeg:https://refugehouseofgod.org/wp-content/uploads/2024/07/Parents-Night-Out-Refuge.jpeg
GEO:35.2647235;-80.8744248
X-APPLE-STRUCTURED-LOCATION;VALUE=URI;X-ADDRESS=Refuge House of God 500-B Ingle Street Charlotte NC 28216 United States;X-APPLE-RADIUS=500;X-TITLE=500-B Ingle Street:geo:-80.8744248,35.2647235
END:VEVENT
BEGIN:VEVENT
DTSTART;TZID=America/New_York:20290224T080000
DTEND;TZID=America/New_York:20290224T093000
DTSTAMP:20260424T204108
CREATED:20240713T020254Z
LAST-MODIFIED:20240713T020332Z
UID:10002261-1866614400-1866619800@refugehouseofgod.org
SUMMARY:4th Saturday Prayer
DESCRIPTION:Man ought to always pray and not faint!!! Come pray with us!
URL:https://refugehouseofgod.org/event/4th-saturday-prayer/2029-02-24/
LOCATION:Refuge House of God\, 500-B Ingle Street\, Charlotte\, NC\, 28216\, United States
CATEGORIES:events and more
ATTACH;FMTTYPE=image/jpeg:https://refugehouseofgod.org/wp-content/uploads/2024/07/4th-saturday-prayer-flyer.jpg
GEO:35.2647235;-80.8744248
X-APPLE-STRUCTURED-LOCATION;VALUE=URI;X-ADDRESS=Refuge House of God 500-B Ingle Street Charlotte NC 28216 United States;X-APPLE-RADIUS=500;X-TITLE=500-B Ingle Street:geo:-80.8744248,35.2647235
END:VEVENT
BEGIN:VEVENT
DTSTART;TZID=America/New_York:20290323T180000
DTEND;TZID=America/New_York:20290323T220000
DTSTAMP:20260424T204108
CREATED:20240713T020857Z
LAST-MODIFIED:20240713T020857Z
UID:10002322-1868983200-1868997600@refugehouseofgod.org
SUMMARY:Parent's Night Out - 4th Friday
DESCRIPTION:
URL:https://refugehouseofgod.org/event/parents-night-out-4th-friday/2029-03-23/
LOCATION:Refuge House of God\, 500-B Ingle Street\, Charlotte\, NC\, 28216\, United States
ATTACH;FMTTYPE=image/jpeg:https://refugehouseofgod.org/wp-content/uploads/2024/07/Parents-Night-Out-Refuge.jpeg
GEO:35.2647235;-80.8744248
X-APPLE-STRUCTURED-LOCATION;VALUE=URI;X-ADDRESS=Refuge House of God 500-B Ingle Street Charlotte NC 28216 United States;X-APPLE-RADIUS=500;X-TITLE=500-B Ingle Street:geo:-80.8744248,35.2647235
END:VEVENT
BEGIN:VEVENT
DTSTART;TZID=America/New_York:20290324T080000
DTEND;TZID=America/New_York:20290324T093000
DTSTAMP:20260424T204108
CREATED:20240713T020254Z
LAST-MODIFIED:20240713T020332Z
UID:10002262-1869033600-1869039000@refugehouseofgod.org
SUMMARY:4th Saturday Prayer
DESCRIPTION:Man ought to always pray and not faint!!! Come pray with us!
URL:https://refugehouseofgod.org/event/4th-saturday-prayer/2029-03-24/
LOCATION:Refuge House of God\, 500-B Ingle Street\, Charlotte\, NC\, 28216\, United States
CATEGORIES:events and more
ATTACH;FMTTYPE=image/jpeg:https://refugehouseofgod.org/wp-content/uploads/2024/07/4th-saturday-prayer-flyer.jpg
GEO:35.2647235;-80.8744248
X-APPLE-STRUCTURED-LOCATION;VALUE=URI;X-ADDRESS=Refuge House of God 500-B Ingle Street Charlotte NC 28216 United States;X-APPLE-RADIUS=500;X-TITLE=500-B Ingle Street:geo:-80.8744248,35.2647235
END:VEVENT
BEGIN:VEVENT
DTSTART;TZID=America/New_York:20290427T180000
DTEND;TZID=America/New_York:20290427T220000
DTSTAMP:20260424T204108
CREATED:20240713T020857Z
LAST-MODIFIED:20240713T020857Z
UID:10002323-1872007200-1872021600@refugehouseofgod.org
SUMMARY:Parent's Night Out - 4th Friday
DESCRIPTION:
URL:https://refugehouseofgod.org/event/parents-night-out-4th-friday/2029-04-27/
LOCATION:Refuge House of God\, 500-B Ingle Street\, Charlotte\, NC\, 28216\, United States
ATTACH;FMTTYPE=image/jpeg:https://refugehouseofgod.org/wp-content/uploads/2024/07/Parents-Night-Out-Refuge.jpeg
GEO:35.2647235;-80.8744248
X-APPLE-STRUCTURED-LOCATION;VALUE=URI;X-ADDRESS=Refuge House of God 500-B Ingle Street Charlotte NC 28216 United States;X-APPLE-RADIUS=500;X-TITLE=500-B Ingle Street:geo:-80.8744248,35.2647235
END:VEVENT
BEGIN:VEVENT
DTSTART;TZID=America/New_York:20290428T080000
DTEND;TZID=America/New_York:20290428T093000
DTSTAMP:20260424T204108
CREATED:20240713T020254Z
LAST-MODIFIED:20240713T020332Z
UID:10002263-1872057600-1872063000@refugehouseofgod.org
SUMMARY:4th Saturday Prayer
DESCRIPTION:Man ought to always pray and not faint!!! Come pray with us!
URL:https://refugehouseofgod.org/event/4th-saturday-prayer/2029-04-28/
LOCATION:Refuge House of God\, 500-B Ingle Street\, Charlotte\, NC\, 28216\, United States
CATEGORIES:events and more
ATTACH;FMTTYPE=image/jpeg:https://refugehouseofgod.org/wp-content/uploads/2024/07/4th-saturday-prayer-flyer.jpg
GEO:35.2647235;-80.8744248
X-APPLE-STRUCTURED-LOCATION;VALUE=URI;X-ADDRESS=Refuge House of God 500-B Ingle Street Charlotte NC 28216 United States;X-APPLE-RADIUS=500;X-TITLE=500-B Ingle Street:geo:-80.8744248,35.2647235
END:VEVENT
BEGIN:VEVENT
DTSTART;TZID=America/New_York:20290525T180000
DTEND;TZID=America/New_York:20290525T220000
DTSTAMP:20260424T204108
CREATED:20240713T020857Z
LAST-MODIFIED:20240713T020857Z
UID:10002324-1874426400-1874440800@refugehouseofgod.org
SUMMARY:Parent's Night Out - 4th Friday
DESCRIPTION:
URL:https://refugehouseofgod.org/event/parents-night-out-4th-friday/2029-05-25/
LOCATION:Refuge House of God\, 500-B Ingle Street\, Charlotte\, NC\, 28216\, United States
ATTACH;FMTTYPE=image/jpeg:https://refugehouseofgod.org/wp-content/uploads/2024/07/Parents-Night-Out-Refuge.jpeg
GEO:35.2647235;-80.8744248
X-APPLE-STRUCTURED-LOCATION;VALUE=URI;X-ADDRESS=Refuge House of God 500-B Ingle Street Charlotte NC 28216 United States;X-APPLE-RADIUS=500;X-TITLE=500-B Ingle Street:geo:-80.8744248,35.2647235
END:VEVENT
BEGIN:VEVENT
DTSTART;TZID=America/New_York:20290526T080000
DTEND;TZID=America/New_York:20290526T093000
DTSTAMP:20260424T204108
CREATED:20240713T020254Z
LAST-MODIFIED:20240713T020332Z
UID:10002264-1874476800-1874482200@refugehouseofgod.org
SUMMARY:4th Saturday Prayer
DESCRIPTION:Man ought to always pray and not faint!!! Come pray with us!
URL:https://refugehouseofgod.org/event/4th-saturday-prayer/2029-05-26/
LOCATION:Refuge House of God\, 500-B Ingle Street\, Charlotte\, NC\, 28216\, United States
CATEGORIES:events and more
ATTACH;FMTTYPE=image/jpeg:https://refugehouseofgod.org/wp-content/uploads/2024/07/4th-saturday-prayer-flyer.jpg
GEO:35.2647235;-80.8744248
X-APPLE-STRUCTURED-LOCATION;VALUE=URI;X-ADDRESS=Refuge House of God 500-B Ingle Street Charlotte NC 28216 United States;X-APPLE-RADIUS=500;X-TITLE=500-B Ingle Street:geo:-80.8744248,35.2647235
END:VEVENT
BEGIN:VEVENT
DTSTART;TZID=America/New_York:20290622T180000
DTEND;TZID=America/New_York:20290622T220000
DTSTAMP:20260424T204108
CREATED:20240713T020857Z
LAST-MODIFIED:20240713T020857Z
UID:10002325-1876845600-1876860000@refugehouseofgod.org
SUMMARY:Parent's Night Out - 4th Friday
DESCRIPTION:
URL:https://refugehouseofgod.org/event/parents-night-out-4th-friday/2029-06-22/
LOCATION:Refuge House of God\, 500-B Ingle Street\, Charlotte\, NC\, 28216\, United States
ATTACH;FMTTYPE=image/jpeg:https://refugehouseofgod.org/wp-content/uploads/2024/07/Parents-Night-Out-Refuge.jpeg
GEO:35.2647235;-80.8744248
X-APPLE-STRUCTURED-LOCATION;VALUE=URI;X-ADDRESS=Refuge House of God 500-B Ingle Street Charlotte NC 28216 United States;X-APPLE-RADIUS=500;X-TITLE=500-B Ingle Street:geo:-80.8744248,35.2647235
END:VEVENT
BEGIN:VEVENT
DTSTART;TZID=America/New_York:20290623T080000
DTEND;TZID=America/New_York:20290623T093000
DTSTAMP:20260424T204108
CREATED:20240713T020254Z
LAST-MODIFIED:20240713T020332Z
UID:10002265-1876896000-1876901400@refugehouseofgod.org
SUMMARY:4th Saturday Prayer
DESCRIPTION:Man ought to always pray and not faint!!! Come pray with us!
URL:https://refugehouseofgod.org/event/4th-saturday-prayer/2029-06-23/
LOCATION:Refuge House of God\, 500-B Ingle Street\, Charlotte\, NC\, 28216\, United States
CATEGORIES:events and more
ATTACH;FMTTYPE=image/jpeg:https://refugehouseofgod.org/wp-content/uploads/2024/07/4th-saturday-prayer-flyer.jpg
GEO:35.2647235;-80.8744248
X-APPLE-STRUCTURED-LOCATION;VALUE=URI;X-ADDRESS=Refuge House of God 500-B Ingle Street Charlotte NC 28216 United States;X-APPLE-RADIUS=500;X-TITLE=500-B Ingle Street:geo:-80.8744248,35.2647235
END:VEVENT
END:VCALENDAR