BEGIN:VCALENDAR
VERSION:2.0
PRODID:-//Refuge House of God | Charlotte NC - ECPv6.15.17//NONSGML v1.0//EN
CALSCALE:GREGORIAN
METHOD:PUBLISH
X-WR-CALNAME:Refuge House of God | Charlotte NC
X-ORIGINAL-URL:https://refugehouseofgod.org
X-WR-CALDESC:Events for Refuge House of God | Charlotte NC
REFRESH-INTERVAL;VALUE=DURATION:PT1H
X-Robots-Tag:noindex
X-PUBLISHED-TTL:PT1H
BEGIN:VTIMEZONE
TZID:America/New_York
BEGIN:DAYLIGHT
TZOFFSETFROM:-0500
TZOFFSETTO:-0400
TZNAME:EDT
DTSTART:20250309T070000
END:DAYLIGHT
BEGIN:STANDARD
TZOFFSETFROM:-0400
TZOFFSETTO:-0500
TZNAME:EST
DTSTART:20251102T060000
END:STANDARD
BEGIN:DAYLIGHT
TZOFFSETFROM:-0500
TZOFFSETTO:-0400
TZNAME:EDT
DTSTART:20260308T070000
END:DAYLIGHT
BEGIN:STANDARD
TZOFFSETFROM:-0400
TZOFFSETTO:-0500
TZNAME:EST
DTSTART:20261101T060000
END:STANDARD
BEGIN:DAYLIGHT
TZOFFSETFROM:-0500
TZOFFSETTO:-0400
TZNAME:EDT
DTSTART:20270314T070000
END:DAYLIGHT
BEGIN:STANDARD
TZOFFSETFROM:-0400
TZOFFSETTO:-0500
TZNAME:EST
DTSTART:20271107T060000
END:STANDARD
END:VTIMEZONE
BEGIN:VEVENT
DTSTART;TZID=America/New_York:20260408T190000
DTEND;TZID=America/New_York:20260408T203000
DTSTAMP:20260422T180421
CREATED:20230707T201541Z
LAST-MODIFIED:20230707T201541Z
UID:10001822-1775674800-1775680200@refugehouseofgod.org
SUMMARY:Prayer & Strategies for Living (bible study)
DESCRIPTION:Come join us every Wednesday at 7 p.m. for prayer & strategies for living….
URL:https://refugehouseofgod.org/event/prayer-strategies-for-living-bible-study/2026-04-08/
LOCATION:Refuge House of God\, 500-B Ingle Street\, Charlotte\, NC\, 28216\, United States
CATEGORIES:events and more
GEO:35.2647235;-80.8744248
X-APPLE-STRUCTURED-LOCATION;VALUE=URI;X-ADDRESS=Refuge House of God 500-B Ingle Street Charlotte NC 28216 United States;X-APPLE-RADIUS=500;X-TITLE=500-B Ingle Street:geo:-80.8744248,35.2647235
END:VEVENT
BEGIN:VEVENT
DTSTART;TZID=America/New_York:20260415T190000
DTEND;TZID=America/New_York:20260415T203000
DTSTAMP:20260422T180421
CREATED:20230707T201541Z
LAST-MODIFIED:20230707T201541Z
UID:10001823-1776279600-1776285000@refugehouseofgod.org
SUMMARY:Prayer & Strategies for Living (bible study)
DESCRIPTION:Come join us every Wednesday at 7 p.m. for prayer & strategies for living….
URL:https://refugehouseofgod.org/event/prayer-strategies-for-living-bible-study/2026-04-15/
LOCATION:Refuge House of God\, 500-B Ingle Street\, Charlotte\, NC\, 28216\, United States
CATEGORIES:events and more
GEO:35.2647235;-80.8744248
X-APPLE-STRUCTURED-LOCATION;VALUE=URI;X-ADDRESS=Refuge House of God 500-B Ingle Street Charlotte NC 28216 United States;X-APPLE-RADIUS=500;X-TITLE=500-B Ingle Street:geo:-80.8744248,35.2647235
END:VEVENT
BEGIN:VEVENT
DTSTART;TZID=America/New_York:20260422T190000
DTEND;TZID=America/New_York:20260422T203000
DTSTAMP:20260422T180421
CREATED:20230707T201541Z
LAST-MODIFIED:20230707T201541Z
UID:10001824-1776884400-1776889800@refugehouseofgod.org
SUMMARY:Prayer & Strategies for Living (bible study)
DESCRIPTION:Come join us every Wednesday at 7 p.m. for prayer & strategies for living….
URL:https://refugehouseofgod.org/event/prayer-strategies-for-living-bible-study/2026-04-22/
LOCATION:Refuge House of God\, 500-B Ingle Street\, Charlotte\, NC\, 28216\, United States
CATEGORIES:events and more
GEO:35.2647235;-80.8744248
X-APPLE-STRUCTURED-LOCATION;VALUE=URI;X-ADDRESS=Refuge House of God 500-B Ingle Street Charlotte NC 28216 United States;X-APPLE-RADIUS=500;X-TITLE=500-B Ingle Street:geo:-80.8744248,35.2647235
END:VEVENT
BEGIN:VEVENT
DTSTART;TZID=America/New_York:20260424T180000
DTEND;TZID=America/New_York:20260424T220000
DTSTAMP:20260422T180421
CREATED:20240713T020857Z
LAST-MODIFIED:20240713T020857Z
UID:10002287-1777053600-1777068000@refugehouseofgod.org
SUMMARY:Parent's Night Out - 4th Friday
DESCRIPTION:
URL:https://refugehouseofgod.org/event/parents-night-out-4th-friday/2026-04-24/
LOCATION:Refuge House of God\, 500-B Ingle Street\, Charlotte\, NC\, 28216\, United States
ATTACH;FMTTYPE=image/jpeg:https://refugehouseofgod.org/wp-content/uploads/2024/07/Parents-Night-Out-Refuge.jpeg
GEO:35.2647235;-80.8744248
X-APPLE-STRUCTURED-LOCATION;VALUE=URI;X-ADDRESS=Refuge House of God 500-B Ingle Street Charlotte NC 28216 United States;X-APPLE-RADIUS=500;X-TITLE=500-B Ingle Street:geo:-80.8744248,35.2647235
END:VEVENT
BEGIN:VEVENT
DTSTART;TZID=America/New_York:20260425T080000
DTEND;TZID=America/New_York:20260425T093000
DTSTAMP:20260422T180421
CREATED:20240713T020254Z
LAST-MODIFIED:20240713T020332Z
UID:10002227-1777104000-1777109400@refugehouseofgod.org
SUMMARY:4th Saturday Prayer
DESCRIPTION:Man ought to always pray and not faint!!! Come pray with us!
URL:https://refugehouseofgod.org/event/4th-saturday-prayer/2026-04-25/
LOCATION:Refuge House of God\, 500-B Ingle Street\, Charlotte\, NC\, 28216\, United States
CATEGORIES:events and more
ATTACH;FMTTYPE=image/jpeg:https://refugehouseofgod.org/wp-content/uploads/2024/07/4th-saturday-prayer-flyer.jpg
GEO:35.2647235;-80.8744248
X-APPLE-STRUCTURED-LOCATION;VALUE=URI;X-ADDRESS=Refuge House of God 500-B Ingle Street Charlotte NC 28216 United States;X-APPLE-RADIUS=500;X-TITLE=500-B Ingle Street:geo:-80.8744248,35.2647235
END:VEVENT
BEGIN:VEVENT
DTSTART;TZID=America/New_York:20260429T190000
DTEND;TZID=America/New_York:20260429T203000
DTSTAMP:20260422T180421
CREATED:20230707T201541Z
LAST-MODIFIED:20230707T201541Z
UID:10001825-1777489200-1777494600@refugehouseofgod.org
SUMMARY:Prayer & Strategies for Living (bible study)
DESCRIPTION:Come join us every Wednesday at 7 p.m. for prayer & strategies for living….
URL:https://refugehouseofgod.org/event/prayer-strategies-for-living-bible-study/2026-04-29/
LOCATION:Refuge House of God\, 500-B Ingle Street\, Charlotte\, NC\, 28216\, United States
CATEGORIES:events and more
GEO:35.2647235;-80.8744248
X-APPLE-STRUCTURED-LOCATION;VALUE=URI;X-ADDRESS=Refuge House of God 500-B Ingle Street Charlotte NC 28216 United States;X-APPLE-RADIUS=500;X-TITLE=500-B Ingle Street:geo:-80.8744248,35.2647235
END:VEVENT
BEGIN:VEVENT
DTSTART;TZID=America/New_York:20260506T190000
DTEND;TZID=America/New_York:20260506T203000
DTSTAMP:20260422T180421
CREATED:20230707T201541Z
LAST-MODIFIED:20230707T201541Z
UID:10001826-1778094000-1778099400@refugehouseofgod.org
SUMMARY:Prayer & Strategies for Living (bible study)
DESCRIPTION:Come join us every Wednesday at 7 p.m. for prayer & strategies for living….
URL:https://refugehouseofgod.org/event/prayer-strategies-for-living-bible-study/2026-05-06/
LOCATION:Refuge House of God\, 500-B Ingle Street\, Charlotte\, NC\, 28216\, United States
CATEGORIES:events and more
GEO:35.2647235;-80.8744248
X-APPLE-STRUCTURED-LOCATION;VALUE=URI;X-ADDRESS=Refuge House of God 500-B Ingle Street Charlotte NC 28216 United States;X-APPLE-RADIUS=500;X-TITLE=500-B Ingle Street:geo:-80.8744248,35.2647235
END:VEVENT
BEGIN:VEVENT
DTSTART;TZID=America/New_York:20260513T190000
DTEND;TZID=America/New_York:20260513T203000
DTSTAMP:20260422T180421
CREATED:20230707T201541Z
LAST-MODIFIED:20230707T201541Z
UID:10001827-1778698800-1778704200@refugehouseofgod.org
SUMMARY:Prayer & Strategies for Living (bible study)
DESCRIPTION:Come join us every Wednesday at 7 p.m. for prayer & strategies for living….
URL:https://refugehouseofgod.org/event/prayer-strategies-for-living-bible-study/2026-05-13/
LOCATION:Refuge House of God\, 500-B Ingle Street\, Charlotte\, NC\, 28216\, United States
CATEGORIES:events and more
GEO:35.2647235;-80.8744248
X-APPLE-STRUCTURED-LOCATION;VALUE=URI;X-ADDRESS=Refuge House of God 500-B Ingle Street Charlotte NC 28216 United States;X-APPLE-RADIUS=500;X-TITLE=500-B Ingle Street:geo:-80.8744248,35.2647235
END:VEVENT
BEGIN:VEVENT
DTSTART;TZID=America/New_York:20260520T190000
DTEND;TZID=America/New_York:20260520T203000
DTSTAMP:20260422T180421
CREATED:20230707T201541Z
LAST-MODIFIED:20230707T201541Z
UID:10001828-1779303600-1779309000@refugehouseofgod.org
SUMMARY:Prayer & Strategies for Living (bible study)
DESCRIPTION:Come join us every Wednesday at 7 p.m. for prayer & strategies for living….
URL:https://refugehouseofgod.org/event/prayer-strategies-for-living-bible-study/2026-05-20/
LOCATION:Refuge House of God\, 500-B Ingle Street\, Charlotte\, NC\, 28216\, United States
CATEGORIES:events and more
GEO:35.2647235;-80.8744248
X-APPLE-STRUCTURED-LOCATION;VALUE=URI;X-ADDRESS=Refuge House of God 500-B Ingle Street Charlotte NC 28216 United States;X-APPLE-RADIUS=500;X-TITLE=500-B Ingle Street:geo:-80.8744248,35.2647235
END:VEVENT
BEGIN:VEVENT
DTSTART;TZID=America/New_York:20260522T180000
DTEND;TZID=America/New_York:20260522T220000
DTSTAMP:20260422T180421
CREATED:20240713T020857Z
LAST-MODIFIED:20240713T020857Z
UID:10002288-1779472800-1779487200@refugehouseofgod.org
SUMMARY:Parent's Night Out - 4th Friday
DESCRIPTION:
URL:https://refugehouseofgod.org/event/parents-night-out-4th-friday/2026-05-22/
LOCATION:Refuge House of God\, 500-B Ingle Street\, Charlotte\, NC\, 28216\, United States
ATTACH;FMTTYPE=image/jpeg:https://refugehouseofgod.org/wp-content/uploads/2024/07/Parents-Night-Out-Refuge.jpeg
GEO:35.2647235;-80.8744248
X-APPLE-STRUCTURED-LOCATION;VALUE=URI;X-ADDRESS=Refuge House of God 500-B Ingle Street Charlotte NC 28216 United States;X-APPLE-RADIUS=500;X-TITLE=500-B Ingle Street:geo:-80.8744248,35.2647235
END:VEVENT
BEGIN:VEVENT
DTSTART;TZID=America/New_York:20260523T080000
DTEND;TZID=America/New_York:20260523T093000
DTSTAMP:20260422T180421
CREATED:20240713T020254Z
LAST-MODIFIED:20240713T020332Z
UID:10002228-1779523200-1779528600@refugehouseofgod.org
SUMMARY:4th Saturday Prayer
DESCRIPTION:Man ought to always pray and not faint!!! Come pray with us!
URL:https://refugehouseofgod.org/event/4th-saturday-prayer/2026-05-23/
LOCATION:Refuge House of God\, 500-B Ingle Street\, Charlotte\, NC\, 28216\, United States
CATEGORIES:events and more
ATTACH;FMTTYPE=image/jpeg:https://refugehouseofgod.org/wp-content/uploads/2024/07/4th-saturday-prayer-flyer.jpg
GEO:35.2647235;-80.8744248
X-APPLE-STRUCTURED-LOCATION;VALUE=URI;X-ADDRESS=Refuge House of God 500-B Ingle Street Charlotte NC 28216 United States;X-APPLE-RADIUS=500;X-TITLE=500-B Ingle Street:geo:-80.8744248,35.2647235
END:VEVENT
BEGIN:VEVENT
DTSTART;TZID=America/New_York:20260527T190000
DTEND;TZID=America/New_York:20260527T203000
DTSTAMP:20260422T180421
CREATED:20230707T201541Z
LAST-MODIFIED:20230707T201541Z
UID:10001829-1779908400-1779913800@refugehouseofgod.org
SUMMARY:Prayer & Strategies for Living (bible study)
DESCRIPTION:Come join us every Wednesday at 7 p.m. for prayer & strategies for living….
URL:https://refugehouseofgod.org/event/prayer-strategies-for-living-bible-study/2026-05-27/
LOCATION:Refuge House of God\, 500-B Ingle Street\, Charlotte\, NC\, 28216\, United States
CATEGORIES:events and more
GEO:35.2647235;-80.8744248
X-APPLE-STRUCTURED-LOCATION;VALUE=URI;X-ADDRESS=Refuge House of God 500-B Ingle Street Charlotte NC 28216 United States;X-APPLE-RADIUS=500;X-TITLE=500-B Ingle Street:geo:-80.8744248,35.2647235
END:VEVENT
BEGIN:VEVENT
DTSTART;TZID=America/New_York:20260603T190000
DTEND;TZID=America/New_York:20260603T203000
DTSTAMP:20260422T180421
CREATED:20230707T201541Z
LAST-MODIFIED:20230707T201541Z
UID:10001830-1780513200-1780518600@refugehouseofgod.org
SUMMARY:Prayer & Strategies for Living (bible study)
DESCRIPTION:Come join us every Wednesday at 7 p.m. for prayer & strategies for living….
URL:https://refugehouseofgod.org/event/prayer-strategies-for-living-bible-study/2026-06-03/
LOCATION:Refuge House of God\, 500-B Ingle Street\, Charlotte\, NC\, 28216\, United States
CATEGORIES:events and more
GEO:35.2647235;-80.8744248
X-APPLE-STRUCTURED-LOCATION;VALUE=URI;X-ADDRESS=Refuge House of God 500-B Ingle Street Charlotte NC 28216 United States;X-APPLE-RADIUS=500;X-TITLE=500-B Ingle Street:geo:-80.8744248,35.2647235
END:VEVENT
BEGIN:VEVENT
DTSTART;TZID=America/New_York:20260610T190000
DTEND;TZID=America/New_York:20260610T203000
DTSTAMP:20260422T180421
CREATED:20230707T201541Z
LAST-MODIFIED:20230707T201541Z
UID:10001831-1781118000-1781123400@refugehouseofgod.org
SUMMARY:Prayer & Strategies for Living (bible study)
DESCRIPTION:Come join us every Wednesday at 7 p.m. for prayer & strategies for living….
URL:https://refugehouseofgod.org/event/prayer-strategies-for-living-bible-study/2026-06-10/
LOCATION:Refuge House of God\, 500-B Ingle Street\, Charlotte\, NC\, 28216\, United States
CATEGORIES:events and more
GEO:35.2647235;-80.8744248
X-APPLE-STRUCTURED-LOCATION;VALUE=URI;X-ADDRESS=Refuge House of God 500-B Ingle Street Charlotte NC 28216 United States;X-APPLE-RADIUS=500;X-TITLE=500-B Ingle Street:geo:-80.8744248,35.2647235
END:VEVENT
BEGIN:VEVENT
DTSTART;TZID=America/New_York:20260617T190000
DTEND;TZID=America/New_York:20260617T203000
DTSTAMP:20260422T180421
CREATED:20230707T201541Z
LAST-MODIFIED:20230707T201541Z
UID:10001832-1781722800-1781728200@refugehouseofgod.org
SUMMARY:Prayer & Strategies for Living (bible study)
DESCRIPTION:Come join us every Wednesday at 7 p.m. for prayer & strategies for living….
URL:https://refugehouseofgod.org/event/prayer-strategies-for-living-bible-study/2026-06-17/
LOCATION:Refuge House of God\, 500-B Ingle Street\, Charlotte\, NC\, 28216\, United States
CATEGORIES:events and more
GEO:35.2647235;-80.8744248
X-APPLE-STRUCTURED-LOCATION;VALUE=URI;X-ADDRESS=Refuge House of God 500-B Ingle Street Charlotte NC 28216 United States;X-APPLE-RADIUS=500;X-TITLE=500-B Ingle Street:geo:-80.8744248,35.2647235
END:VEVENT
BEGIN:VEVENT
DTSTART;TZID=America/New_York:20260624T190000
DTEND;TZID=America/New_York:20260624T203000
DTSTAMP:20260422T180421
CREATED:20230707T201541Z
LAST-MODIFIED:20230707T201541Z
UID:10001833-1782327600-1782333000@refugehouseofgod.org
SUMMARY:Prayer & Strategies for Living (bible study)
DESCRIPTION:Come join us every Wednesday at 7 p.m. for prayer & strategies for living….
URL:https://refugehouseofgod.org/event/prayer-strategies-for-living-bible-study/2026-06-24/
LOCATION:Refuge House of God\, 500-B Ingle Street\, Charlotte\, NC\, 28216\, United States
CATEGORIES:events and more
GEO:35.2647235;-80.8744248
X-APPLE-STRUCTURED-LOCATION;VALUE=URI;X-ADDRESS=Refuge House of God 500-B Ingle Street Charlotte NC 28216 United States;X-APPLE-RADIUS=500;X-TITLE=500-B Ingle Street:geo:-80.8744248,35.2647235
END:VEVENT
BEGIN:VEVENT
DTSTART;TZID=America/New_York:20260626T180000
DTEND;TZID=America/New_York:20260626T220000
DTSTAMP:20260422T180421
CREATED:20240713T020857Z
LAST-MODIFIED:20240713T020857Z
UID:10002289-1782496800-1782511200@refugehouseofgod.org
SUMMARY:Parent's Night Out - 4th Friday
DESCRIPTION:
URL:https://refugehouseofgod.org/event/parents-night-out-4th-friday/2026-06-26/
LOCATION:Refuge House of God\, 500-B Ingle Street\, Charlotte\, NC\, 28216\, United States
ATTACH;FMTTYPE=image/jpeg:https://refugehouseofgod.org/wp-content/uploads/2024/07/Parents-Night-Out-Refuge.jpeg
GEO:35.2647235;-80.8744248
X-APPLE-STRUCTURED-LOCATION;VALUE=URI;X-ADDRESS=Refuge House of God 500-B Ingle Street Charlotte NC 28216 United States;X-APPLE-RADIUS=500;X-TITLE=500-B Ingle Street:geo:-80.8744248,35.2647235
END:VEVENT
BEGIN:VEVENT
DTSTART;TZID=America/New_York:20260627T080000
DTEND;TZID=America/New_York:20260627T093000
DTSTAMP:20260422T180421
CREATED:20240713T020254Z
LAST-MODIFIED:20240713T020332Z
UID:10002229-1782547200-1782552600@refugehouseofgod.org
SUMMARY:4th Saturday Prayer
DESCRIPTION:Man ought to always pray and not faint!!! Come pray with us!
URL:https://refugehouseofgod.org/event/4th-saturday-prayer/2026-06-27/
LOCATION:Refuge House of God\, 500-B Ingle Street\, Charlotte\, NC\, 28216\, United States
CATEGORIES:events and more
ATTACH;FMTTYPE=image/jpeg:https://refugehouseofgod.org/wp-content/uploads/2024/07/4th-saturday-prayer-flyer.jpg
GEO:35.2647235;-80.8744248
X-APPLE-STRUCTURED-LOCATION;VALUE=URI;X-ADDRESS=Refuge House of God 500-B Ingle Street Charlotte NC 28216 United States;X-APPLE-RADIUS=500;X-TITLE=500-B Ingle Street:geo:-80.8744248,35.2647235
END:VEVENT
BEGIN:VEVENT
DTSTART;TZID=America/New_York:20260701T190000
DTEND;TZID=America/New_York:20260701T203000
DTSTAMP:20260422T180421
CREATED:20230707T201541Z
LAST-MODIFIED:20230707T201541Z
UID:10001834-1782932400-1782937800@refugehouseofgod.org
SUMMARY:Prayer & Strategies for Living (bible study)
DESCRIPTION:Come join us every Wednesday at 7 p.m. for prayer & strategies for living….
URL:https://refugehouseofgod.org/event/prayer-strategies-for-living-bible-study/2026-07-01/
LOCATION:Refuge House of God\, 500-B Ingle Street\, Charlotte\, NC\, 28216\, United States
CATEGORIES:events and more
GEO:35.2647235;-80.8744248
X-APPLE-STRUCTURED-LOCATION;VALUE=URI;X-ADDRESS=Refuge House of God 500-B Ingle Street Charlotte NC 28216 United States;X-APPLE-RADIUS=500;X-TITLE=500-B Ingle Street:geo:-80.8744248,35.2647235
END:VEVENT
BEGIN:VEVENT
DTSTART;TZID=America/New_York:20260708T190000
DTEND;TZID=America/New_York:20260708T203000
DTSTAMP:20260422T180421
CREATED:20230707T201541Z
LAST-MODIFIED:20230707T201541Z
UID:10001835-1783537200-1783542600@refugehouseofgod.org
SUMMARY:Prayer & Strategies for Living (bible study)
DESCRIPTION:Come join us every Wednesday at 7 p.m. for prayer & strategies for living….
URL:https://refugehouseofgod.org/event/prayer-strategies-for-living-bible-study/2026-07-08/
LOCATION:Refuge House of God\, 500-B Ingle Street\, Charlotte\, NC\, 28216\, United States
CATEGORIES:events and more
GEO:35.2647235;-80.8744248
X-APPLE-STRUCTURED-LOCATION;VALUE=URI;X-ADDRESS=Refuge House of God 500-B Ingle Street Charlotte NC 28216 United States;X-APPLE-RADIUS=500;X-TITLE=500-B Ingle Street:geo:-80.8744248,35.2647235
END:VEVENT
BEGIN:VEVENT
DTSTART;TZID=America/New_York:20260715T190000
DTEND;TZID=America/New_York:20260715T203000
DTSTAMP:20260422T180421
CREATED:20230707T201541Z
LAST-MODIFIED:20230707T201541Z
UID:10001836-1784142000-1784147400@refugehouseofgod.org
SUMMARY:Prayer & Strategies for Living (bible study)
DESCRIPTION:Come join us every Wednesday at 7 p.m. for prayer & strategies for living….
URL:https://refugehouseofgod.org/event/prayer-strategies-for-living-bible-study/2026-07-15/
LOCATION:Refuge House of God\, 500-B Ingle Street\, Charlotte\, NC\, 28216\, United States
CATEGORIES:events and more
GEO:35.2647235;-80.8744248
X-APPLE-STRUCTURED-LOCATION;VALUE=URI;X-ADDRESS=Refuge House of God 500-B Ingle Street Charlotte NC 28216 United States;X-APPLE-RADIUS=500;X-TITLE=500-B Ingle Street:geo:-80.8744248,35.2647235
END:VEVENT
BEGIN:VEVENT
DTSTART;TZID=America/New_York:20260722T190000
DTEND;TZID=America/New_York:20260722T203000
DTSTAMP:20260422T180421
CREATED:20230707T201541Z
LAST-MODIFIED:20230707T201541Z
UID:10001837-1784746800-1784752200@refugehouseofgod.org
SUMMARY:Prayer & Strategies for Living (bible study)
DESCRIPTION:Come join us every Wednesday at 7 p.m. for prayer & strategies for living….
URL:https://refugehouseofgod.org/event/prayer-strategies-for-living-bible-study/2026-07-22/
LOCATION:Refuge House of God\, 500-B Ingle Street\, Charlotte\, NC\, 28216\, United States
CATEGORIES:events and more
GEO:35.2647235;-80.8744248
X-APPLE-STRUCTURED-LOCATION;VALUE=URI;X-ADDRESS=Refuge House of God 500-B Ingle Street Charlotte NC 28216 United States;X-APPLE-RADIUS=500;X-TITLE=500-B Ingle Street:geo:-80.8744248,35.2647235
END:VEVENT
BEGIN:VEVENT
DTSTART;TZID=America/New_York:20260724T180000
DTEND;TZID=America/New_York:20260724T220000
DTSTAMP:20260422T180421
CREATED:20240713T020857Z
LAST-MODIFIED:20240713T020857Z
UID:10002290-1784916000-1784930400@refugehouseofgod.org
SUMMARY:Parent's Night Out - 4th Friday
DESCRIPTION:
URL:https://refugehouseofgod.org/event/parents-night-out-4th-friday/2026-07-24/
LOCATION:Refuge House of God\, 500-B Ingle Street\, Charlotte\, NC\, 28216\, United States
ATTACH;FMTTYPE=image/jpeg:https://refugehouseofgod.org/wp-content/uploads/2024/07/Parents-Night-Out-Refuge.jpeg
GEO:35.2647235;-80.8744248
X-APPLE-STRUCTURED-LOCATION;VALUE=URI;X-ADDRESS=Refuge House of God 500-B Ingle Street Charlotte NC 28216 United States;X-APPLE-RADIUS=500;X-TITLE=500-B Ingle Street:geo:-80.8744248,35.2647235
END:VEVENT
BEGIN:VEVENT
DTSTART;TZID=America/New_York:20260725T080000
DTEND;TZID=America/New_York:20260725T093000
DTSTAMP:20260422T180421
CREATED:20240713T020254Z
LAST-MODIFIED:20240713T020332Z
UID:10002230-1784966400-1784971800@refugehouseofgod.org
SUMMARY:4th Saturday Prayer
DESCRIPTION:Man ought to always pray and not faint!!! Come pray with us!
URL:https://refugehouseofgod.org/event/4th-saturday-prayer/2026-07-25/
LOCATION:Refuge House of God\, 500-B Ingle Street\, Charlotte\, NC\, 28216\, United States
CATEGORIES:events and more
ATTACH;FMTTYPE=image/jpeg:https://refugehouseofgod.org/wp-content/uploads/2024/07/4th-saturday-prayer-flyer.jpg
GEO:35.2647235;-80.8744248
X-APPLE-STRUCTURED-LOCATION;VALUE=URI;X-ADDRESS=Refuge House of God 500-B Ingle Street Charlotte NC 28216 United States;X-APPLE-RADIUS=500;X-TITLE=500-B Ingle Street:geo:-80.8744248,35.2647235
END:VEVENT
BEGIN:VEVENT
DTSTART;TZID=America/New_York:20260729T190000
DTEND;TZID=America/New_York:20260729T203000
DTSTAMP:20260422T180421
CREATED:20230707T201541Z
LAST-MODIFIED:20230707T201541Z
UID:10001838-1785351600-1785357000@refugehouseofgod.org
SUMMARY:Prayer & Strategies for Living (bible study)
DESCRIPTION:Come join us every Wednesday at 7 p.m. for prayer & strategies for living….
URL:https://refugehouseofgod.org/event/prayer-strategies-for-living-bible-study/2026-07-29/
LOCATION:Refuge House of God\, 500-B Ingle Street\, Charlotte\, NC\, 28216\, United States
CATEGORIES:events and more
GEO:35.2647235;-80.8744248
X-APPLE-STRUCTURED-LOCATION;VALUE=URI;X-ADDRESS=Refuge House of God 500-B Ingle Street Charlotte NC 28216 United States;X-APPLE-RADIUS=500;X-TITLE=500-B Ingle Street:geo:-80.8744248,35.2647235
END:VEVENT
BEGIN:VEVENT
DTSTART;TZID=America/New_York:20260805T190000
DTEND;TZID=America/New_York:20260805T203000
DTSTAMP:20260422T180421
CREATED:20230707T201541Z
LAST-MODIFIED:20230707T201541Z
UID:10001839-1785956400-1785961800@refugehouseofgod.org
SUMMARY:Prayer & Strategies for Living (bible study)
DESCRIPTION:Come join us every Wednesday at 7 p.m. for prayer & strategies for living….
URL:https://refugehouseofgod.org/event/prayer-strategies-for-living-bible-study/2026-08-05/
LOCATION:Refuge House of God\, 500-B Ingle Street\, Charlotte\, NC\, 28216\, United States
CATEGORIES:events and more
GEO:35.2647235;-80.8744248
X-APPLE-STRUCTURED-LOCATION;VALUE=URI;X-ADDRESS=Refuge House of God 500-B Ingle Street Charlotte NC 28216 United States;X-APPLE-RADIUS=500;X-TITLE=500-B Ingle Street:geo:-80.8744248,35.2647235
END:VEVENT
BEGIN:VEVENT
DTSTART;TZID=America/New_York:20260812T190000
DTEND;TZID=America/New_York:20260812T203000
DTSTAMP:20260422T180421
CREATED:20230707T201541Z
LAST-MODIFIED:20230707T201541Z
UID:10001840-1786561200-1786566600@refugehouseofgod.org
SUMMARY:Prayer & Strategies for Living (bible study)
DESCRIPTION:Come join us every Wednesday at 7 p.m. for prayer & strategies for living….
URL:https://refugehouseofgod.org/event/prayer-strategies-for-living-bible-study/2026-08-12/
LOCATION:Refuge House of God\, 500-B Ingle Street\, Charlotte\, NC\, 28216\, United States
CATEGORIES:events and more
GEO:35.2647235;-80.8744248
X-APPLE-STRUCTURED-LOCATION;VALUE=URI;X-ADDRESS=Refuge House of God 500-B Ingle Street Charlotte NC 28216 United States;X-APPLE-RADIUS=500;X-TITLE=500-B Ingle Street:geo:-80.8744248,35.2647235
END:VEVENT
BEGIN:VEVENT
DTSTART;TZID=America/New_York:20260819T190000
DTEND;TZID=America/New_York:20260819T203000
DTSTAMP:20260422T180421
CREATED:20230707T201541Z
LAST-MODIFIED:20230707T201541Z
UID:10001841-1787166000-1787171400@refugehouseofgod.org
SUMMARY:Prayer & Strategies for Living (bible study)
DESCRIPTION:Come join us every Wednesday at 7 p.m. for prayer & strategies for living….
URL:https://refugehouseofgod.org/event/prayer-strategies-for-living-bible-study/2026-08-19/
LOCATION:Refuge House of God\, 500-B Ingle Street\, Charlotte\, NC\, 28216\, United States
CATEGORIES:events and more
GEO:35.2647235;-80.8744248
X-APPLE-STRUCTURED-LOCATION;VALUE=URI;X-ADDRESS=Refuge House of God 500-B Ingle Street Charlotte NC 28216 United States;X-APPLE-RADIUS=500;X-TITLE=500-B Ingle Street:geo:-80.8744248,35.2647235
END:VEVENT
BEGIN:VEVENT
DTSTART;TZID=America/New_York:20260822T080000
DTEND;TZID=America/New_York:20260822T093000
DTSTAMP:20260422T180421
CREATED:20240713T020254Z
LAST-MODIFIED:20240713T020332Z
UID:10002231-1787385600-1787391000@refugehouseofgod.org
SUMMARY:4th Saturday Prayer
DESCRIPTION:Man ought to always pray and not faint!!! Come pray with us!
URL:https://refugehouseofgod.org/event/4th-saturday-prayer/2026-08-22/
LOCATION:Refuge House of God\, 500-B Ingle Street\, Charlotte\, NC\, 28216\, United States
CATEGORIES:events and more
ATTACH;FMTTYPE=image/jpeg:https://refugehouseofgod.org/wp-content/uploads/2024/07/4th-saturday-prayer-flyer.jpg
GEO:35.2647235;-80.8744248
X-APPLE-STRUCTURED-LOCATION;VALUE=URI;X-ADDRESS=Refuge House of God 500-B Ingle Street Charlotte NC 28216 United States;X-APPLE-RADIUS=500;X-TITLE=500-B Ingle Street:geo:-80.8744248,35.2647235
END:VEVENT
BEGIN:VEVENT
DTSTART;TZID=America/New_York:20260826T190000
DTEND;TZID=America/New_York:20260826T203000
DTSTAMP:20260422T180421
CREATED:20230707T201541Z
LAST-MODIFIED:20230707T201541Z
UID:10001842-1787770800-1787776200@refugehouseofgod.org
SUMMARY:Prayer & Strategies for Living (bible study)
DESCRIPTION:Come join us every Wednesday at 7 p.m. for prayer & strategies for living….
URL:https://refugehouseofgod.org/event/prayer-strategies-for-living-bible-study/2026-08-26/
LOCATION:Refuge House of God\, 500-B Ingle Street\, Charlotte\, NC\, 28216\, United States
CATEGORIES:events and more
GEO:35.2647235;-80.8744248
X-APPLE-STRUCTURED-LOCATION;VALUE=URI;X-ADDRESS=Refuge House of God 500-B Ingle Street Charlotte NC 28216 United States;X-APPLE-RADIUS=500;X-TITLE=500-B Ingle Street:geo:-80.8744248,35.2647235
END:VEVENT
END:VCALENDAR