BEGIN:VCALENDAR
VERSION:2.0
PRODID:-//Refuge House of God | Charlotte NC - ECPv6.15.17//NONSGML v1.0//EN
CALSCALE:GREGORIAN
METHOD:PUBLISH
X-WR-CALNAME:Refuge House of God | Charlotte NC
X-ORIGINAL-URL:https://refugehouseofgod.org
X-WR-CALDESC:Events for Refuge House of God | Charlotte NC
REFRESH-INTERVAL;VALUE=DURATION:PT1H
X-Robots-Tag:noindex
X-PUBLISHED-TTL:PT1H
BEGIN:VTIMEZONE
TZID:America/New_York
BEGIN:DAYLIGHT
TZOFFSETFROM:-0500
TZOFFSETTO:-0400
TZNAME:EDT
DTSTART:20260308T070000
END:DAYLIGHT
BEGIN:STANDARD
TZOFFSETFROM:-0400
TZOFFSETTO:-0500
TZNAME:EST
DTSTART:20261101T060000
END:STANDARD
BEGIN:DAYLIGHT
TZOFFSETFROM:-0500
TZOFFSETTO:-0400
TZNAME:EDT
DTSTART:20270314T070000
END:DAYLIGHT
BEGIN:STANDARD
TZOFFSETFROM:-0400
TZOFFSETTO:-0500
TZNAME:EST
DTSTART:20271107T060000
END:STANDARD
BEGIN:DAYLIGHT
TZOFFSETFROM:-0500
TZOFFSETTO:-0400
TZNAME:EDT
DTSTART:20280312T070000
END:DAYLIGHT
BEGIN:STANDARD
TZOFFSETFROM:-0400
TZOFFSETTO:-0500
TZNAME:EST
DTSTART:20281105T060000
END:STANDARD
END:VTIMEZONE
BEGIN:VEVENT
DTSTART;TZID=America/New_York:20270310T190000
DTEND;TZID=America/New_York:20270310T203000
DTSTAMP:20260423T060157
CREATED:20230707T201541Z
LAST-MODIFIED:20230707T201541Z
UID:10001870-1804705200-1804710600@refugehouseofgod.org
SUMMARY:Prayer & Strategies for Living (bible study)
DESCRIPTION:Come join us every Wednesday at 7 p.m. for prayer & strategies for living….
URL:https://refugehouseofgod.org/event/prayer-strategies-for-living-bible-study/2027-03-10/
LOCATION:Refuge House of God\, 500-B Ingle Street\, Charlotte\, NC\, 28216\, United States
CATEGORIES:events and more
GEO:35.2647235;-80.8744248
X-APPLE-STRUCTURED-LOCATION;VALUE=URI;X-ADDRESS=Refuge House of God 500-B Ingle Street Charlotte NC 28216 United States;X-APPLE-RADIUS=500;X-TITLE=500-B Ingle Street:geo:-80.8744248,35.2647235
END:VEVENT
BEGIN:VEVENT
DTSTART;TZID=America/New_York:20270317T190000
DTEND;TZID=America/New_York:20270317T203000
DTSTAMP:20260423T060157
CREATED:20230707T201541Z
LAST-MODIFIED:20230707T201541Z
UID:10001871-1805310000-1805315400@refugehouseofgod.org
SUMMARY:Prayer & Strategies for Living (bible study)
DESCRIPTION:Come join us every Wednesday at 7 p.m. for prayer & strategies for living….
URL:https://refugehouseofgod.org/event/prayer-strategies-for-living-bible-study/2027-03-17/
LOCATION:Refuge House of God\, 500-B Ingle Street\, Charlotte\, NC\, 28216\, United States
CATEGORIES:events and more
GEO:35.2647235;-80.8744248
X-APPLE-STRUCTURED-LOCATION;VALUE=URI;X-ADDRESS=Refuge House of God 500-B Ingle Street Charlotte NC 28216 United States;X-APPLE-RADIUS=500;X-TITLE=500-B Ingle Street:geo:-80.8744248,35.2647235
END:VEVENT
BEGIN:VEVENT
DTSTART;TZID=America/New_York:20270324T190000
DTEND;TZID=America/New_York:20270324T203000
DTSTAMP:20260423T060157
CREATED:20230707T201541Z
LAST-MODIFIED:20230707T201541Z
UID:10001872-1805914800-1805920200@refugehouseofgod.org
SUMMARY:Prayer & Strategies for Living (bible study)
DESCRIPTION:Come join us every Wednesday at 7 p.m. for prayer & strategies for living….
URL:https://refugehouseofgod.org/event/prayer-strategies-for-living-bible-study/2027-03-24/
LOCATION:Refuge House of God\, 500-B Ingle Street\, Charlotte\, NC\, 28216\, United States
CATEGORIES:events and more
GEO:35.2647235;-80.8744248
X-APPLE-STRUCTURED-LOCATION;VALUE=URI;X-ADDRESS=Refuge House of God 500-B Ingle Street Charlotte NC 28216 United States;X-APPLE-RADIUS=500;X-TITLE=500-B Ingle Street:geo:-80.8744248,35.2647235
END:VEVENT
BEGIN:VEVENT
DTSTART;TZID=America/New_York:20270327T080000
DTEND;TZID=America/New_York:20270327T093000
DTSTAMP:20260423T060157
CREATED:20240713T020254Z
LAST-MODIFIED:20240713T020332Z
UID:10002238-1806134400-1806139800@refugehouseofgod.org
SUMMARY:4th Saturday Prayer
DESCRIPTION:Man ought to always pray and not faint!!! Come pray with us!
URL:https://refugehouseofgod.org/event/4th-saturday-prayer/2027-03-27/
LOCATION:Refuge House of God\, 500-B Ingle Street\, Charlotte\, NC\, 28216\, United States
CATEGORIES:events and more
ATTACH;FMTTYPE=image/jpeg:https://refugehouseofgod.org/wp-content/uploads/2024/07/4th-saturday-prayer-flyer.jpg
GEO:35.2647235;-80.8744248
X-APPLE-STRUCTURED-LOCATION;VALUE=URI;X-ADDRESS=Refuge House of God 500-B Ingle Street Charlotte NC 28216 United States;X-APPLE-RADIUS=500;X-TITLE=500-B Ingle Street:geo:-80.8744248,35.2647235
END:VEVENT
BEGIN:VEVENT
DTSTART;TZID=America/New_York:20270331T190000
DTEND;TZID=America/New_York:20270331T203000
DTSTAMP:20260423T060157
CREATED:20230707T201541Z
LAST-MODIFIED:20230707T201541Z
UID:10001873-1806519600-1806525000@refugehouseofgod.org
SUMMARY:Prayer & Strategies for Living (bible study)
DESCRIPTION:Come join us every Wednesday at 7 p.m. for prayer & strategies for living….
URL:https://refugehouseofgod.org/event/prayer-strategies-for-living-bible-study/2027-03-31/
LOCATION:Refuge House of God\, 500-B Ingle Street\, Charlotte\, NC\, 28216\, United States
CATEGORIES:events and more
GEO:35.2647235;-80.8744248
X-APPLE-STRUCTURED-LOCATION;VALUE=URI;X-ADDRESS=Refuge House of God 500-B Ingle Street Charlotte NC 28216 United States;X-APPLE-RADIUS=500;X-TITLE=500-B Ingle Street:geo:-80.8744248,35.2647235
END:VEVENT
BEGIN:VEVENT
DTSTART;TZID=America/New_York:20270407T190000
DTEND;TZID=America/New_York:20270407T203000
DTSTAMP:20260423T060157
CREATED:20230707T201541Z
LAST-MODIFIED:20230707T201541Z
UID:10001874-1807124400-1807129800@refugehouseofgod.org
SUMMARY:Prayer & Strategies for Living (bible study)
DESCRIPTION:Come join us every Wednesday at 7 p.m. for prayer & strategies for living….
URL:https://refugehouseofgod.org/event/prayer-strategies-for-living-bible-study/2027-04-07/
LOCATION:Refuge House of God\, 500-B Ingle Street\, Charlotte\, NC\, 28216\, United States
CATEGORIES:events and more
GEO:35.2647235;-80.8744248
X-APPLE-STRUCTURED-LOCATION;VALUE=URI;X-ADDRESS=Refuge House of God 500-B Ingle Street Charlotte NC 28216 United States;X-APPLE-RADIUS=500;X-TITLE=500-B Ingle Street:geo:-80.8744248,35.2647235
END:VEVENT
BEGIN:VEVENT
DTSTART;TZID=America/New_York:20270414T190000
DTEND;TZID=America/New_York:20270414T203000
DTSTAMP:20260423T060157
CREATED:20230707T201541Z
LAST-MODIFIED:20230707T201541Z
UID:10001875-1807729200-1807734600@refugehouseofgod.org
SUMMARY:Prayer & Strategies for Living (bible study)
DESCRIPTION:Come join us every Wednesday at 7 p.m. for prayer & strategies for living….
URL:https://refugehouseofgod.org/event/prayer-strategies-for-living-bible-study/2027-04-14/
LOCATION:Refuge House of God\, 500-B Ingle Street\, Charlotte\, NC\, 28216\, United States
CATEGORIES:events and more
GEO:35.2647235;-80.8744248
X-APPLE-STRUCTURED-LOCATION;VALUE=URI;X-ADDRESS=Refuge House of God 500-B Ingle Street Charlotte NC 28216 United States;X-APPLE-RADIUS=500;X-TITLE=500-B Ingle Street:geo:-80.8744248,35.2647235
END:VEVENT
BEGIN:VEVENT
DTSTART;TZID=America/New_York:20270421T190000
DTEND;TZID=America/New_York:20270421T203000
DTSTAMP:20260423T060157
CREATED:20230707T201541Z
LAST-MODIFIED:20230707T201541Z
UID:10001876-1808334000-1808339400@refugehouseofgod.org
SUMMARY:Prayer & Strategies for Living (bible study)
DESCRIPTION:Come join us every Wednesday at 7 p.m. for prayer & strategies for living….
URL:https://refugehouseofgod.org/event/prayer-strategies-for-living-bible-study/2027-04-21/
LOCATION:Refuge House of God\, 500-B Ingle Street\, Charlotte\, NC\, 28216\, United States
CATEGORIES:events and more
GEO:35.2647235;-80.8744248
X-APPLE-STRUCTURED-LOCATION;VALUE=URI;X-ADDRESS=Refuge House of God 500-B Ingle Street Charlotte NC 28216 United States;X-APPLE-RADIUS=500;X-TITLE=500-B Ingle Street:geo:-80.8744248,35.2647235
END:VEVENT
BEGIN:VEVENT
DTSTART;TZID=America/New_York:20270424T080000
DTEND;TZID=America/New_York:20270424T093000
DTSTAMP:20260423T060157
CREATED:20240713T020254Z
LAST-MODIFIED:20240713T020332Z
UID:10002239-1808553600-1808559000@refugehouseofgod.org
SUMMARY:4th Saturday Prayer
DESCRIPTION:Man ought to always pray and not faint!!! Come pray with us!
URL:https://refugehouseofgod.org/event/4th-saturday-prayer/2027-04-24/
LOCATION:Refuge House of God\, 500-B Ingle Street\, Charlotte\, NC\, 28216\, United States
CATEGORIES:events and more
ATTACH;FMTTYPE=image/jpeg:https://refugehouseofgod.org/wp-content/uploads/2024/07/4th-saturday-prayer-flyer.jpg
GEO:35.2647235;-80.8744248
X-APPLE-STRUCTURED-LOCATION;VALUE=URI;X-ADDRESS=Refuge House of God 500-B Ingle Street Charlotte NC 28216 United States;X-APPLE-RADIUS=500;X-TITLE=500-B Ingle Street:geo:-80.8744248,35.2647235
END:VEVENT
BEGIN:VEVENT
DTSTART;TZID=America/New_York:20270428T190000
DTEND;TZID=America/New_York:20270428T203000
DTSTAMP:20260423T060157
CREATED:20230707T201541Z
LAST-MODIFIED:20230707T201541Z
UID:10001877-1808938800-1808944200@refugehouseofgod.org
SUMMARY:Prayer & Strategies for Living (bible study)
DESCRIPTION:Come join us every Wednesday at 7 p.m. for prayer & strategies for living….
URL:https://refugehouseofgod.org/event/prayer-strategies-for-living-bible-study/2027-04-28/
LOCATION:Refuge House of God\, 500-B Ingle Street\, Charlotte\, NC\, 28216\, United States
CATEGORIES:events and more
GEO:35.2647235;-80.8744248
X-APPLE-STRUCTURED-LOCATION;VALUE=URI;X-ADDRESS=Refuge House of God 500-B Ingle Street Charlotte NC 28216 United States;X-APPLE-RADIUS=500;X-TITLE=500-B Ingle Street:geo:-80.8744248,35.2647235
END:VEVENT
BEGIN:VEVENT
DTSTART;TZID=America/New_York:20270505T190000
DTEND;TZID=America/New_York:20270505T203000
DTSTAMP:20260423T060157
CREATED:20230707T201541Z
LAST-MODIFIED:20230707T201541Z
UID:10001878-1809543600-1809549000@refugehouseofgod.org
SUMMARY:Prayer & Strategies for Living (bible study)
DESCRIPTION:Come join us every Wednesday at 7 p.m. for prayer & strategies for living….
URL:https://refugehouseofgod.org/event/prayer-strategies-for-living-bible-study/2027-05-05/
LOCATION:Refuge House of God\, 500-B Ingle Street\, Charlotte\, NC\, 28216\, United States
CATEGORIES:events and more
GEO:35.2647235;-80.8744248
X-APPLE-STRUCTURED-LOCATION;VALUE=URI;X-ADDRESS=Refuge House of God 500-B Ingle Street Charlotte NC 28216 United States;X-APPLE-RADIUS=500;X-TITLE=500-B Ingle Street:geo:-80.8744248,35.2647235
END:VEVENT
BEGIN:VEVENT
DTSTART;TZID=America/New_York:20270512T190000
DTEND;TZID=America/New_York:20270512T203000
DTSTAMP:20260423T060157
CREATED:20230707T201541Z
LAST-MODIFIED:20230707T201541Z
UID:10001879-1810148400-1810153800@refugehouseofgod.org
SUMMARY:Prayer & Strategies for Living (bible study)
DESCRIPTION:Come join us every Wednesday at 7 p.m. for prayer & strategies for living….
URL:https://refugehouseofgod.org/event/prayer-strategies-for-living-bible-study/2027-05-12/
LOCATION:Refuge House of God\, 500-B Ingle Street\, Charlotte\, NC\, 28216\, United States
CATEGORIES:events and more
GEO:35.2647235;-80.8744248
X-APPLE-STRUCTURED-LOCATION;VALUE=URI;X-ADDRESS=Refuge House of God 500-B Ingle Street Charlotte NC 28216 United States;X-APPLE-RADIUS=500;X-TITLE=500-B Ingle Street:geo:-80.8744248,35.2647235
END:VEVENT
BEGIN:VEVENT
DTSTART;TZID=America/New_York:20270519T190000
DTEND;TZID=America/New_York:20270519T203000
DTSTAMP:20260423T060157
CREATED:20230707T201541Z
LAST-MODIFIED:20230707T201541Z
UID:10001880-1810753200-1810758600@refugehouseofgod.org
SUMMARY:Prayer & Strategies for Living (bible study)
DESCRIPTION:Come join us every Wednesday at 7 p.m. for prayer & strategies for living….
URL:https://refugehouseofgod.org/event/prayer-strategies-for-living-bible-study/2027-05-19/
LOCATION:Refuge House of God\, 500-B Ingle Street\, Charlotte\, NC\, 28216\, United States
CATEGORIES:events and more
GEO:35.2647235;-80.8744248
X-APPLE-STRUCTURED-LOCATION;VALUE=URI;X-ADDRESS=Refuge House of God 500-B Ingle Street Charlotte NC 28216 United States;X-APPLE-RADIUS=500;X-TITLE=500-B Ingle Street:geo:-80.8744248,35.2647235
END:VEVENT
BEGIN:VEVENT
DTSTART;TZID=America/New_York:20270522T080000
DTEND;TZID=America/New_York:20270522T093000
DTSTAMP:20260423T060157
CREATED:20240713T020254Z
LAST-MODIFIED:20240713T020332Z
UID:10002240-1810972800-1810978200@refugehouseofgod.org
SUMMARY:4th Saturday Prayer
DESCRIPTION:Man ought to always pray and not faint!!! Come pray with us!
URL:https://refugehouseofgod.org/event/4th-saturday-prayer/2027-05-22/
LOCATION:Refuge House of God\, 500-B Ingle Street\, Charlotte\, NC\, 28216\, United States
CATEGORIES:events and more
ATTACH;FMTTYPE=image/jpeg:https://refugehouseofgod.org/wp-content/uploads/2024/07/4th-saturday-prayer-flyer.jpg
GEO:35.2647235;-80.8744248
X-APPLE-STRUCTURED-LOCATION;VALUE=URI;X-ADDRESS=Refuge House of God 500-B Ingle Street Charlotte NC 28216 United States;X-APPLE-RADIUS=500;X-TITLE=500-B Ingle Street:geo:-80.8744248,35.2647235
END:VEVENT
BEGIN:VEVENT
DTSTART;TZID=America/New_York:20270526T190000
DTEND;TZID=America/New_York:20270526T203000
DTSTAMP:20260423T060157
CREATED:20230707T201541Z
LAST-MODIFIED:20230707T201541Z
UID:10001881-1811358000-1811363400@refugehouseofgod.org
SUMMARY:Prayer & Strategies for Living (bible study)
DESCRIPTION:Come join us every Wednesday at 7 p.m. for prayer & strategies for living….
URL:https://refugehouseofgod.org/event/prayer-strategies-for-living-bible-study/2027-05-26/
LOCATION:Refuge House of God\, 500-B Ingle Street\, Charlotte\, NC\, 28216\, United States
CATEGORIES:events and more
GEO:35.2647235;-80.8744248
X-APPLE-STRUCTURED-LOCATION;VALUE=URI;X-ADDRESS=Refuge House of God 500-B Ingle Street Charlotte NC 28216 United States;X-APPLE-RADIUS=500;X-TITLE=500-B Ingle Street:geo:-80.8744248,35.2647235
END:VEVENT
BEGIN:VEVENT
DTSTART;TZID=America/New_York:20270602T190000
DTEND;TZID=America/New_York:20270602T203000
DTSTAMP:20260423T060157
CREATED:20230707T201541Z
LAST-MODIFIED:20230707T201541Z
UID:10001882-1811962800-1811968200@refugehouseofgod.org
SUMMARY:Prayer & Strategies for Living (bible study)
DESCRIPTION:Come join us every Wednesday at 7 p.m. for prayer & strategies for living….
URL:https://refugehouseofgod.org/event/prayer-strategies-for-living-bible-study/2027-06-02/
LOCATION:Refuge House of God\, 500-B Ingle Street\, Charlotte\, NC\, 28216\, United States
CATEGORIES:events and more
GEO:35.2647235;-80.8744248
X-APPLE-STRUCTURED-LOCATION;VALUE=URI;X-ADDRESS=Refuge House of God 500-B Ingle Street Charlotte NC 28216 United States;X-APPLE-RADIUS=500;X-TITLE=500-B Ingle Street:geo:-80.8744248,35.2647235
END:VEVENT
BEGIN:VEVENT
DTSTART;TZID=America/New_York:20270609T190000
DTEND;TZID=America/New_York:20270609T203000
DTSTAMP:20260423T060157
CREATED:20230707T201541Z
LAST-MODIFIED:20230707T201541Z
UID:10001883-1812567600-1812573000@refugehouseofgod.org
SUMMARY:Prayer & Strategies for Living (bible study)
DESCRIPTION:Come join us every Wednesday at 7 p.m. for prayer & strategies for living….
URL:https://refugehouseofgod.org/event/prayer-strategies-for-living-bible-study/2027-06-09/
LOCATION:Refuge House of God\, 500-B Ingle Street\, Charlotte\, NC\, 28216\, United States
CATEGORIES:events and more
GEO:35.2647235;-80.8744248
X-APPLE-STRUCTURED-LOCATION;VALUE=URI;X-ADDRESS=Refuge House of God 500-B Ingle Street Charlotte NC 28216 United States;X-APPLE-RADIUS=500;X-TITLE=500-B Ingle Street:geo:-80.8744248,35.2647235
END:VEVENT
BEGIN:VEVENT
DTSTART;TZID=America/New_York:20270616T190000
DTEND;TZID=America/New_York:20270616T203000
DTSTAMP:20260423T060157
CREATED:20230707T201541Z
LAST-MODIFIED:20230707T201541Z
UID:10001884-1813172400-1813177800@refugehouseofgod.org
SUMMARY:Prayer & Strategies for Living (bible study)
DESCRIPTION:Come join us every Wednesday at 7 p.m. for prayer & strategies for living….
URL:https://refugehouseofgod.org/event/prayer-strategies-for-living-bible-study/2027-06-16/
LOCATION:Refuge House of God\, 500-B Ingle Street\, Charlotte\, NC\, 28216\, United States
CATEGORIES:events and more
GEO:35.2647235;-80.8744248
X-APPLE-STRUCTURED-LOCATION;VALUE=URI;X-ADDRESS=Refuge House of God 500-B Ingle Street Charlotte NC 28216 United States;X-APPLE-RADIUS=500;X-TITLE=500-B Ingle Street:geo:-80.8744248,35.2647235
END:VEVENT
BEGIN:VEVENT
DTSTART;TZID=America/New_York:20270623T190000
DTEND;TZID=America/New_York:20270623T203000
DTSTAMP:20260423T060157
CREATED:20230707T201541Z
LAST-MODIFIED:20230707T201541Z
UID:10001885-1813777200-1813782600@refugehouseofgod.org
SUMMARY:Prayer & Strategies for Living (bible study)
DESCRIPTION:Come join us every Wednesday at 7 p.m. for prayer & strategies for living….
URL:https://refugehouseofgod.org/event/prayer-strategies-for-living-bible-study/2027-06-23/
LOCATION:Refuge House of God\, 500-B Ingle Street\, Charlotte\, NC\, 28216\, United States
CATEGORIES:events and more
GEO:35.2647235;-80.8744248
X-APPLE-STRUCTURED-LOCATION;VALUE=URI;X-ADDRESS=Refuge House of God 500-B Ingle Street Charlotte NC 28216 United States;X-APPLE-RADIUS=500;X-TITLE=500-B Ingle Street:geo:-80.8744248,35.2647235
END:VEVENT
BEGIN:VEVENT
DTSTART;TZID=America/New_York:20270626T080000
DTEND;TZID=America/New_York:20270626T093000
DTSTAMP:20260423T060157
CREATED:20240713T020254Z
LAST-MODIFIED:20240713T020332Z
UID:10002241-1813996800-1814002200@refugehouseofgod.org
SUMMARY:4th Saturday Prayer
DESCRIPTION:Man ought to always pray and not faint!!! Come pray with us!
URL:https://refugehouseofgod.org/event/4th-saturday-prayer/2027-06-26/
LOCATION:Refuge House of God\, 500-B Ingle Street\, Charlotte\, NC\, 28216\, United States
CATEGORIES:events and more
ATTACH;FMTTYPE=image/jpeg:https://refugehouseofgod.org/wp-content/uploads/2024/07/4th-saturday-prayer-flyer.jpg
GEO:35.2647235;-80.8744248
X-APPLE-STRUCTURED-LOCATION;VALUE=URI;X-ADDRESS=Refuge House of God 500-B Ingle Street Charlotte NC 28216 United States;X-APPLE-RADIUS=500;X-TITLE=500-B Ingle Street:geo:-80.8744248,35.2647235
END:VEVENT
BEGIN:VEVENT
DTSTART;TZID=America/New_York:20270630T190000
DTEND;TZID=America/New_York:20270630T203000
DTSTAMP:20260423T060157
CREATED:20230707T201541Z
LAST-MODIFIED:20230707T201541Z
UID:10001886-1814382000-1814387400@refugehouseofgod.org
SUMMARY:Prayer & Strategies for Living (bible study)
DESCRIPTION:Come join us every Wednesday at 7 p.m. for prayer & strategies for living….
URL:https://refugehouseofgod.org/event/prayer-strategies-for-living-bible-study/2027-06-30/
LOCATION:Refuge House of God\, 500-B Ingle Street\, Charlotte\, NC\, 28216\, United States
CATEGORIES:events and more
GEO:35.2647235;-80.8744248
X-APPLE-STRUCTURED-LOCATION;VALUE=URI;X-ADDRESS=Refuge House of God 500-B Ingle Street Charlotte NC 28216 United States;X-APPLE-RADIUS=500;X-TITLE=500-B Ingle Street:geo:-80.8744248,35.2647235
END:VEVENT
BEGIN:VEVENT
DTSTART;TZID=America/New_York:20270707T190000
DTEND;TZID=America/New_York:20270707T203000
DTSTAMP:20260423T060157
CREATED:20230707T201541Z
LAST-MODIFIED:20230707T201541Z
UID:10001887-1814986800-1814992200@refugehouseofgod.org
SUMMARY:Prayer & Strategies for Living (bible study)
DESCRIPTION:Come join us every Wednesday at 7 p.m. for prayer & strategies for living….
URL:https://refugehouseofgod.org/event/prayer-strategies-for-living-bible-study/2027-07-07/
LOCATION:Refuge House of God\, 500-B Ingle Street\, Charlotte\, NC\, 28216\, United States
CATEGORIES:events and more
GEO:35.2647235;-80.8744248
X-APPLE-STRUCTURED-LOCATION;VALUE=URI;X-ADDRESS=Refuge House of God 500-B Ingle Street Charlotte NC 28216 United States;X-APPLE-RADIUS=500;X-TITLE=500-B Ingle Street:geo:-80.8744248,35.2647235
END:VEVENT
BEGIN:VEVENT
DTSTART;TZID=America/New_York:20270714T190000
DTEND;TZID=America/New_York:20270714T203000
DTSTAMP:20260423T060157
CREATED:20230707T201541Z
LAST-MODIFIED:20230707T201541Z
UID:10001888-1815591600-1815597000@refugehouseofgod.org
SUMMARY:Prayer & Strategies for Living (bible study)
DESCRIPTION:Come join us every Wednesday at 7 p.m. for prayer & strategies for living….
URL:https://refugehouseofgod.org/event/prayer-strategies-for-living-bible-study/2027-07-14/
LOCATION:Refuge House of God\, 500-B Ingle Street\, Charlotte\, NC\, 28216\, United States
CATEGORIES:events and more
GEO:35.2647235;-80.8744248
X-APPLE-STRUCTURED-LOCATION;VALUE=URI;X-ADDRESS=Refuge House of God 500-B Ingle Street Charlotte NC 28216 United States;X-APPLE-RADIUS=500;X-TITLE=500-B Ingle Street:geo:-80.8744248,35.2647235
END:VEVENT
BEGIN:VEVENT
DTSTART;TZID=America/New_York:20270721T190000
DTEND;TZID=America/New_York:20270721T203000
DTSTAMP:20260423T060157
CREATED:20230707T201541Z
LAST-MODIFIED:20230707T201541Z
UID:10001889-1816196400-1816201800@refugehouseofgod.org
SUMMARY:Prayer & Strategies for Living (bible study)
DESCRIPTION:Come join us every Wednesday at 7 p.m. for prayer & strategies for living….
URL:https://refugehouseofgod.org/event/prayer-strategies-for-living-bible-study/2027-07-21/
LOCATION:Refuge House of God\, 500-B Ingle Street\, Charlotte\, NC\, 28216\, United States
CATEGORIES:events and more
GEO:35.2647235;-80.8744248
X-APPLE-STRUCTURED-LOCATION;VALUE=URI;X-ADDRESS=Refuge House of God 500-B Ingle Street Charlotte NC 28216 United States;X-APPLE-RADIUS=500;X-TITLE=500-B Ingle Street:geo:-80.8744248,35.2647235
END:VEVENT
BEGIN:VEVENT
DTSTART;TZID=America/New_York:20270724T080000
DTEND;TZID=America/New_York:20270724T093000
DTSTAMP:20260423T060157
CREATED:20240713T020254Z
LAST-MODIFIED:20240713T020332Z
UID:10002242-1816416000-1816421400@refugehouseofgod.org
SUMMARY:4th Saturday Prayer
DESCRIPTION:Man ought to always pray and not faint!!! Come pray with us!
URL:https://refugehouseofgod.org/event/4th-saturday-prayer/2027-07-24/
LOCATION:Refuge House of God\, 500-B Ingle Street\, Charlotte\, NC\, 28216\, United States
CATEGORIES:events and more
ATTACH;FMTTYPE=image/jpeg:https://refugehouseofgod.org/wp-content/uploads/2024/07/4th-saturday-prayer-flyer.jpg
GEO:35.2647235;-80.8744248
X-APPLE-STRUCTURED-LOCATION;VALUE=URI;X-ADDRESS=Refuge House of God 500-B Ingle Street Charlotte NC 28216 United States;X-APPLE-RADIUS=500;X-TITLE=500-B Ingle Street:geo:-80.8744248,35.2647235
END:VEVENT
BEGIN:VEVENT
DTSTART;TZID=America/New_York:20270728T190000
DTEND;TZID=America/New_York:20270728T203000
DTSTAMP:20260423T060157
CREATED:20230707T201541Z
LAST-MODIFIED:20230707T201541Z
UID:10001890-1816801200-1816806600@refugehouseofgod.org
SUMMARY:Prayer & Strategies for Living (bible study)
DESCRIPTION:Come join us every Wednesday at 7 p.m. for prayer & strategies for living….
URL:https://refugehouseofgod.org/event/prayer-strategies-for-living-bible-study/2027-07-28/
LOCATION:Refuge House of God\, 500-B Ingle Street\, Charlotte\, NC\, 28216\, United States
CATEGORIES:events and more
GEO:35.2647235;-80.8744248
X-APPLE-STRUCTURED-LOCATION;VALUE=URI;X-ADDRESS=Refuge House of God 500-B Ingle Street Charlotte NC 28216 United States;X-APPLE-RADIUS=500;X-TITLE=500-B Ingle Street:geo:-80.8744248,35.2647235
END:VEVENT
BEGIN:VEVENT
DTSTART;TZID=America/New_York:20270804T190000
DTEND;TZID=America/New_York:20270804T203000
DTSTAMP:20260423T060157
CREATED:20230707T201541Z
LAST-MODIFIED:20230707T201541Z
UID:10001891-1817406000-1817411400@refugehouseofgod.org
SUMMARY:Prayer & Strategies for Living (bible study)
DESCRIPTION:Come join us every Wednesday at 7 p.m. for prayer & strategies for living….
URL:https://refugehouseofgod.org/event/prayer-strategies-for-living-bible-study/2027-08-04/
LOCATION:Refuge House of God\, 500-B Ingle Street\, Charlotte\, NC\, 28216\, United States
CATEGORIES:events and more
GEO:35.2647235;-80.8744248
X-APPLE-STRUCTURED-LOCATION;VALUE=URI;X-ADDRESS=Refuge House of God 500-B Ingle Street Charlotte NC 28216 United States;X-APPLE-RADIUS=500;X-TITLE=500-B Ingle Street:geo:-80.8744248,35.2647235
END:VEVENT
BEGIN:VEVENT
DTSTART;TZID=America/New_York:20270811T190000
DTEND;TZID=America/New_York:20270811T203000
DTSTAMP:20260423T060157
CREATED:20230707T201541Z
LAST-MODIFIED:20230707T201541Z
UID:10001892-1818010800-1818016200@refugehouseofgod.org
SUMMARY:Prayer & Strategies for Living (bible study)
DESCRIPTION:Come join us every Wednesday at 7 p.m. for prayer & strategies for living….
URL:https://refugehouseofgod.org/event/prayer-strategies-for-living-bible-study/2027-08-11/
LOCATION:Refuge House of God\, 500-B Ingle Street\, Charlotte\, NC\, 28216\, United States
CATEGORIES:events and more
GEO:35.2647235;-80.8744248
X-APPLE-STRUCTURED-LOCATION;VALUE=URI;X-ADDRESS=Refuge House of God 500-B Ingle Street Charlotte NC 28216 United States;X-APPLE-RADIUS=500;X-TITLE=500-B Ingle Street:geo:-80.8744248,35.2647235
END:VEVENT
BEGIN:VEVENT
DTSTART;TZID=America/New_York:20270818T190000
DTEND;TZID=America/New_York:20270818T203000
DTSTAMP:20260423T060157
CREATED:20230707T201541Z
LAST-MODIFIED:20230707T201541Z
UID:10001893-1818615600-1818621000@refugehouseofgod.org
SUMMARY:Prayer & Strategies for Living (bible study)
DESCRIPTION:Come join us every Wednesday at 7 p.m. for prayer & strategies for living….
URL:https://refugehouseofgod.org/event/prayer-strategies-for-living-bible-study/2027-08-18/
LOCATION:Refuge House of God\, 500-B Ingle Street\, Charlotte\, NC\, 28216\, United States
CATEGORIES:events and more
GEO:35.2647235;-80.8744248
X-APPLE-STRUCTURED-LOCATION;VALUE=URI;X-ADDRESS=Refuge House of God 500-B Ingle Street Charlotte NC 28216 United States;X-APPLE-RADIUS=500;X-TITLE=500-B Ingle Street:geo:-80.8744248,35.2647235
END:VEVENT
BEGIN:VEVENT
DTSTART;TZID=America/New_York:20270825T190000
DTEND;TZID=America/New_York:20270825T203000
DTSTAMP:20260423T060157
CREATED:20230707T201541Z
LAST-MODIFIED:20230707T201541Z
UID:10001894-1819220400-1819225800@refugehouseofgod.org
SUMMARY:Prayer & Strategies for Living (bible study)
DESCRIPTION:Come join us every Wednesday at 7 p.m. for prayer & strategies for living….
URL:https://refugehouseofgod.org/event/prayer-strategies-for-living-bible-study/2027-08-25/
LOCATION:Refuge House of God\, 500-B Ingle Street\, Charlotte\, NC\, 28216\, United States
CATEGORIES:events and more
GEO:35.2647235;-80.8744248
X-APPLE-STRUCTURED-LOCATION;VALUE=URI;X-ADDRESS=Refuge House of God 500-B Ingle Street Charlotte NC 28216 United States;X-APPLE-RADIUS=500;X-TITLE=500-B Ingle Street:geo:-80.8744248,35.2647235
END:VEVENT
END:VCALENDAR